BEGIN:VCALENDAR
VERSION:2.0
PRODID:-//Calendar &amp; Events - ECPv6.15.13//NONSGML v1.0//EN
CALSCALE:GREGORIAN
METHOD:PUBLISH
X-WR-CALNAME:Calendar &amp; Events
X-ORIGINAL-URL:https://calendar.stormontvail.org
X-WR-CALDESC:Events for Calendar &amp; Events
REFRESH-INTERVAL;VALUE=DURATION:PT1H
X-Robots-Tag:noindex
X-PUBLISHED-TTL:PT1H
BEGIN:VTIMEZONE
TZID:America/Chicago
BEGIN:DAYLIGHT
TZOFFSETFROM:-0600
TZOFFSETTO:-0500
TZNAME:CDT
DTSTART:20210314T080000
END:DAYLIGHT
BEGIN:STANDARD
TZOFFSETFROM:-0500
TZOFFSETTO:-0600
TZNAME:CST
DTSTART:20211107T070000
END:STANDARD
BEGIN:DAYLIGHT
TZOFFSETFROM:-0600
TZOFFSETTO:-0500
TZNAME:CDT
DTSTART:20220313T080000
END:DAYLIGHT
BEGIN:STANDARD
TZOFFSETFROM:-0500
TZOFFSETTO:-0600
TZNAME:CST
DTSTART:20221106T070000
END:STANDARD
BEGIN:DAYLIGHT
TZOFFSETFROM:-0600
TZOFFSETTO:-0500
TZNAME:CDT
DTSTART:20230312T080000
END:DAYLIGHT
BEGIN:STANDARD
TZOFFSETFROM:-0500
TZOFFSETTO:-0600
TZNAME:CST
DTSTART:20231105T070000
END:STANDARD
END:VTIMEZONE
BEGIN:VEVENT
DTSTART;TZID=America/Chicago:20220607T140000
DTEND;TZID=America/Chicago:20220607T150000
DTSTAMP:20260421T090817
CREATED:20220202T154150Z
LAST-MODIFIED:20220721T020833Z
UID:10000521-1654610400-1654614000@calendar.stormontvail.org
SUMMARY:Better Breathers Club
DESCRIPTION:Each month members will be sent the Zoom link for that month’s meeting. They will receive more information upon RSVP to Melanie Reamer at 785-270-4847 or SVHBetterBreathers@stormontvail.org \n\n\n\nStormont Vail Health Better Breathers Club was created to provide support and education to those living with chronic lung illness in our community. 
URL:https://calendar.stormontvail.org/event/better-breathers-club/2022-06-07/
ATTACH;FMTTYPE=image/jpeg:https://calendar.stormontvail.org/wp-content/uploads/sites/4/2022/02/BBClub-1.jpg
END:VEVENT
BEGIN:VEVENT
DTSTART;TZID=America/Chicago:20220607T140000
DTEND;TZID=America/Chicago:20220726T160000
DTSTAMP:20260421T090817
CREATED:20220309T204109Z
LAST-MODIFIED:20220422T164612Z
UID:10000556-1654610400-1658851200@calendar.stormontvail.org
SUMMARY:Stepping On: Group B (Tuesdays\, June 7th -July 26th)
DESCRIPTION:Falls are the leading cause of injury and hospitalization for trauma — as well as trauma-related death — among older adults. If you are 65 or older\, have had a fall in the past year\, or live alone\, this workshop provides information on keeping balance\, the causes of falls\, and dangers to look out for. Topics covered include: \n\n\n\n   •  Simple and fun balance and strength training   •  The role that vision plays in keeping your balance   •  How medications can contribute to falls   •  What to look for in safe footwear   •  How to eliminate fall hazards in your home \n\n\n\nWe meet virtually for 2 hours every week in small groups for 8 weeks.At this time we are offering Stepping On in-person at Cotton O’Neil Express Care North 4505 NW Fielding Rd Topeka KS.  If you are not able to participate in-person\, please sign up for our Stepping On Virtual waiting list by emailing abucklan@stormontvail.org and we will notify you when virtual sessions resume. \n\n\n\nClass 01 – June 07Class 02 – June 14Class 03 – June 21Class 04 – June 28Class 05 – July 05Class 06 – July 12Class 07 – July 19Class 08 – July 26 \n\n\n\nFor more information\, please contact Stormont Vail Health’s Injury Prevention Coordinator at (785) 354-5117 or email abucklan@stormontvail.org
URL:https://calendar.stormontvail.org/event/stepping-on-group-b-tuesdays-june-7th-july-26th/
LOCATION:Online\, See event details for more information
CATEGORIES:Senior Health
ATTACH;FMTTYPE=image/png:https://calendar.stormontvail.org/wp-content/uploads/sites/4/2022/03/2021_StepUp.png
ORGANIZER;CN="Ann Buckland":MAILTO:abucklan@stormontvail.org
END:VEVENT
BEGIN:VEVENT
DTSTART;TZID=America/Chicago:20220607T180000
DTEND;TZID=America/Chicago:20220607T201500
DTSTAMP:20260421T090817
CREATED:20211127T214624Z
LAST-MODIFIED:20220721T020207Z
UID:10000489-1654624800-1654632900@calendar.stormontvail.org
SUMMARY:Breastfeeding Basics In-Person
DESCRIPTION:This introduction to breastfeeding will provide pregnant women and their families an opportunity to learn all they need to know about breastfeeding before their baby is born. Classes are designed to help families prepare for the breastfeeding experience by providing information on how breastfeeding works\, how to get started\, problems that may arise and how to incorporate breastfeeding and working. \nThis class will be held in the Stormont Vail Health Auditorium where couples will be socially distanced. Masks are required. Please enter through the main entrance of Stormont Vail Health. \nNote: Enrollment includes expectant mother and one support person.
URL:https://calendar.stormontvail.org/event/breastfeeding-basics-in-person-10/
LOCATION:Stormont Vail Health Pozez Education Center\, 1500 SW 10th Ave\, Topeka\, KS\, 66604\, United States
CATEGORIES:Breastfeeding Basics,Parenting & Pregnancy
ATTACH;FMTTYPE=image/png:https://calendar.stormontvail.org/wp-content/uploads/sites/4/2021/04/Breastfeeding-Class-1.png
ORGANIZER;CN="Ashley Seematter":MAILTO:aseematt@stormontvail.org
END:VEVENT
END:VCALENDAR