BEGIN:VCALENDAR
VERSION:2.0
PRODID:-//Calendar &amp; Events - ECPv6.15.13//NONSGML v1.0//EN
CALSCALE:GREGORIAN
METHOD:PUBLISH
X-ORIGINAL-URL:https://calendar.stormontvail.org
X-WR-CALDESC:Events for Calendar &amp; Events
REFRESH-INTERVAL;VALUE=DURATION:PT1H
X-Robots-Tag:noindex
X-PUBLISHED-TTL:PT1H
BEGIN:VTIMEZONE
TZID:America/Chicago
BEGIN:DAYLIGHT
TZOFFSETFROM:-0600
TZOFFSETTO:-0500
TZNAME:CDT
DTSTART:20210314T080000
END:DAYLIGHT
BEGIN:STANDARD
TZOFFSETFROM:-0500
TZOFFSETTO:-0600
TZNAME:CST
DTSTART:20211107T070000
END:STANDARD
BEGIN:DAYLIGHT
TZOFFSETFROM:-0600
TZOFFSETTO:-0500
TZNAME:CDT
DTSTART:20220313T080000
END:DAYLIGHT
BEGIN:STANDARD
TZOFFSETFROM:-0500
TZOFFSETTO:-0600
TZNAME:CST
DTSTART:20221106T070000
END:STANDARD
BEGIN:DAYLIGHT
TZOFFSETFROM:-0600
TZOFFSETTO:-0500
TZNAME:CDT
DTSTART:20230312T080000
END:DAYLIGHT
BEGIN:STANDARD
TZOFFSETFROM:-0500
TZOFFSETTO:-0600
TZNAME:CST
DTSTART:20231105T070000
END:STANDARD
END:VTIMEZONE
BEGIN:VEVENT
DTSTART;TZID=America/Chicago:20220607T140000
DTEND;TZID=America/Chicago:20220726T160000
DTSTAMP:20260425T063242
CREATED:20220309T204109Z
LAST-MODIFIED:20220422T164612Z
UID:10000556-1654610400-1658851200@calendar.stormontvail.org
SUMMARY:Stepping On: Group B (Tuesdays\, June 7th -July 26th)
DESCRIPTION:Falls are the leading cause of injury and hospitalization for trauma — as well as trauma-related death — among older adults. If you are 65 or older\, have had a fall in the past year\, or live alone\, this workshop provides information on keeping balance\, the causes of falls\, and dangers to look out for. Topics covered include: \n\n\n\n   •  Simple and fun balance and strength training   •  The role that vision plays in keeping your balance   •  How medications can contribute to falls   •  What to look for in safe footwear   •  How to eliminate fall hazards in your home \n\n\n\nWe meet virtually for 2 hours every week in small groups for 8 weeks.At this time we are offering Stepping On in-person at Cotton O’Neil Express Care North 4505 NW Fielding Rd Topeka KS.  If you are not able to participate in-person\, please sign up for our Stepping On Virtual waiting list by emailing abucklan@stormontvail.org and we will notify you when virtual sessions resume. \n\n\n\nClass 01 – June 07Class 02 – June 14Class 03 – June 21Class 04 – June 28Class 05 – July 05Class 06 – July 12Class 07 – July 19Class 08 – July 26 \n\n\n\nFor more information\, please contact Stormont Vail Health’s Injury Prevention Coordinator at (785) 354-5117 or email abucklan@stormontvail.org
URL:https://calendar.stormontvail.org/event/stepping-on-group-b-tuesdays-june-7th-july-26th/
LOCATION:Online\, See event details for more information
CATEGORIES:Senior Health
ATTACH;FMTTYPE=image/png:https://calendar.stormontvail.org/wp-content/uploads/sites/4/2022/03/2021_StepUp.png
ORGANIZER;CN="Ann Buckland":MAILTO:abucklan@stormontvail.org
END:VEVENT
BEGIN:VEVENT
DTSTART;TZID=America/Chicago:20220611T090000
DTEND;TZID=America/Chicago:20220611T103000
DTSTAMP:20260425T063242
CREATED:20211201T163607Z
LAST-MODIFIED:20220303T193909Z
UID:10000494-1654938000-1654943400@calendar.stormontvail.org
SUMMARY:STOP THE BLEED
DESCRIPTION:Minutes count! Someone who is severely bleeding can bleed to death in as little as 5 minutes. That’s why bleeding control—keeping the blood inside the body—is the purpose of STOP THE BLEED® training. \n\n\n\nThe person next to a bleeding victim may very well be the one who’s most likely to save him or her from bleeding to death. By learning how to STOP THE BLEED®\, you’ll gain the ability to recognize life-threatening bleeding and act quickly and effectively to control bleeding once you learn three quick techniques. Take the STOP THE BLEED® training course and become empowered to make a life or death difference when a bleeding emergency happens.
URL:https://calendar.stormontvail.org/event/stop-the-bleed-6/
LOCATION:Stormont Vail Health Pozez Education Center\, 1500 SW 10th Ave\, Topeka\, KS\, 66604\, United States
ATTACH;FMTTYPE=image/png:https://calendar.stormontvail.org/wp-content/uploads/sites/4/2021/11/Stop-the-Bleed-logo.png
ORGANIZER;CN="Brian Aeschliman":MAILTO:brian.aeschliman@stormontvail.org
END:VEVENT
BEGIN:VEVENT
DTSTART;TZID=America/Chicago:20220611T090000
DTEND;TZID=America/Chicago:20220611T120000
DTSTAMP:20260425T063242
CREATED:20211127T213541Z
LAST-MODIFIED:20220922T204019Z
UID:10000487-1654938000-1654948800@calendar.stormontvail.org
SUMMARY:Girl to Woman
DESCRIPTION:The time in a girls life between the ages of 8-12 is one of physical and emotional changes. This program for girls and their parent will address menstruation and other physical changes of puberty\, the emotional upheaval of adolescence and communication techniques for parent and daughter. \n \nFee: $25 for each parent/child duo; $12.50 for each additional sibling. Payment is collected at class.Note: RSVP includes one parent/child duo.For questions or interest in the class contact:Libby Rosen\, PhD\, RN – lrosen@stormontvail.org
URL:https://calendar.stormontvail.org/event/girl-to-woman-5/
LOCATION:Stormont Vail Health Pozez Education Center\, 1500 SW 10th Ave\, Topeka\, KS\, 66604\, United States
CATEGORIES:Girl to Woman
ATTACH;FMTTYPE=image/png:https://calendar.stormontvail.org/wp-content/uploads/sites/4/2021/10/girl-to-woman_banner.png
ORGANIZER;CN="Libby Rosen":MAILTO:LRosen@stormontvail.org
END:VEVENT
BEGIN:VEVENT
DTSTART;TZID=America/Chicago:20220611T090000
DTEND;TZID=America/Chicago:20220611T120000
DTSTAMP:20260425T063242
CREATED:20211127T214323Z
LAST-MODIFIED:20230106T202700Z
UID:10000488-1654938000-1654948800@calendar.stormontvail.org
SUMMARY:Boy to Man
DESCRIPTION:Boys experience puberty also and while usually starting later than girls\, the time in a boys life between the ages of 10-13 is filled with many physical and emotional changes. These changes are exciting\, but also are often puzzling\, sometimes embarrassing\, and usually challenging to a young adolescent. Join us for a discussion that will focus on the physiological changes of puberty\, the developmental tasks of early adolescence and ways to improve communication between boys and their parents. This class features a time for boys and their parents to be together but also have time for facilitated discussion separately. \n\n\n\nFee: $25 for each parent/child duo; $12.50 for each additional sibling. Payment is collected at class.For questions or interest in the class contact:Libby Rosen\, PhD\, RN – lrosen@stormontvail.org
URL:https://calendar.stormontvail.org/event/boy-to-man-2/
LOCATION:Stormont Vail Health Pozez Education Center\, 1500 SW 10th Ave\, Topeka\, KS\, 66604\, United States
ATTACH;FMTTYPE=image/png:https://calendar.stormontvail.org/wp-content/uploads/sites/4/2021/10/boy-to-man_banner.png
ORGANIZER;CN="Libby Rosen":MAILTO:LRosen@stormontvail.org
END:VEVENT
BEGIN:VEVENT
DTSTART;TZID=America/Chicago:20220611T090000
DTEND;TZID=America/Chicago:20220611T120000
DTSTAMP:20260425T063242
CREATED:20220310T210008Z
LAST-MODIFIED:20220721T021306Z
UID:10000559-1654938000-1654948800@calendar.stormontvail.org
SUMMARY:Car Seat Checkup Event
DESCRIPTION:Safe Kids Shawnee County and Stormont Vail Health partner to provide this event.  Meet with a certified Child Passenger Safety Technician to be sure your children ride safely.  Learn how to install your child’s car seat or booster seat.  Find out if it’s time for a change. \n\n\n\nTo prevent the spread of COVID-19: Maximum of 2 adults per car\, masks are required for adults\, and no COVID-19 symptoms or sick contacts. \n\n\n\nContact carseat@stormontvail.org with questions.
URL:https://calendar.stormontvail.org/event/car-seat-checkup-event-4/
LOCATION:Shawnee County Health Department\, 2600 SW East Circle Drive\, Topeka\, Kansas\, United States
CATEGORIES:Parenting & Pregnancy
ATTACH;FMTTYPE=image/png:https://calendar.stormontvail.org/wp-content/uploads/sites/4/2022/03/2022-check-lanes.png
ORGANIZER;CN="Laura Odom%2C RN%2C IBCLC":MAILTO:laodom@stormontvail.org
END:VEVENT
END:VCALENDAR