BEGIN:VCALENDAR
VERSION:2.0
PRODID:-//Calendar &amp; Events - ECPv6.15.13//NONSGML v1.0//EN
CALSCALE:GREGORIAN
METHOD:PUBLISH
X-ORIGINAL-URL:https://calendar.stormontvail.org
X-WR-CALDESC:Events for Calendar &amp; Events
REFRESH-INTERVAL;VALUE=DURATION:PT1H
X-Robots-Tag:noindex
X-PUBLISHED-TTL:PT1H
BEGIN:VTIMEZONE
TZID:America/Chicago
BEGIN:DAYLIGHT
TZOFFSETFROM:-0600
TZOFFSETTO:-0500
TZNAME:CDT
DTSTART:20210314T080000
END:DAYLIGHT
BEGIN:STANDARD
TZOFFSETFROM:-0500
TZOFFSETTO:-0600
TZNAME:CST
DTSTART:20211107T070000
END:STANDARD
BEGIN:DAYLIGHT
TZOFFSETFROM:-0600
TZOFFSETTO:-0500
TZNAME:CDT
DTSTART:20220313T080000
END:DAYLIGHT
BEGIN:STANDARD
TZOFFSETFROM:-0500
TZOFFSETTO:-0600
TZNAME:CST
DTSTART:20221106T070000
END:STANDARD
BEGIN:DAYLIGHT
TZOFFSETFROM:-0600
TZOFFSETTO:-0500
TZNAME:CDT
DTSTART:20230312T080000
END:DAYLIGHT
BEGIN:STANDARD
TZOFFSETFROM:-0500
TZOFFSETTO:-0600
TZNAME:CST
DTSTART:20231105T070000
END:STANDARD
END:VTIMEZONE
BEGIN:VEVENT
DTSTART;TZID=America/Chicago:20220806T090000
DTEND;TZID=America/Chicago:20220806T130000
DTSTAMP:20260421T092313
CREATED:20220526T203629Z
LAST-MODIFIED:20220721T015459Z
UID:10000615-1659776400-1659790800@calendar.stormontvail.org
SUMMARY:Childbirth Preparation (August 6 & 7) In-Person
DESCRIPTION:Our childbirth classes are taught by experienced educators and are designed to help you and your support person feel more prepared for your labor and delivery experience. Learn about the stages of labor\, pain management tools\, breathing and relaxation techniques\, how to involve your support person\, and more! Dress comfortably and feel free to bring a pillow to help you feel more comfortable during breathing and relaxation exercises. It is ideal for this class to be completed one month to six weeks prior to your due date. \n \n\n\n\nThis class will be held in the Stormont Vail Health Pozez Education Center where couples will be socially distanced. Masks are required. Please enter through the main entrance of Stormont Vail Health. \nNote: Enrollment includes expectant mother and one support person.  This weekend class option will meet two days in a row (August 6th and 7th) from 9 am to 1 pm each day to cover all content. \n\n\n\n\n 
URL:https://calendar.stormontvail.org/event/childbirth-preparation-august-6-7-in-person/
LOCATION:Stormont Vail Health Pozez Education Center\, 1500 SW 10th Ave\, Topeka\, KS\, 66604\, United States
CATEGORIES:Childbirth Preparation,Parenting & Pregnancy
ATTACH;FMTTYPE=image/jpeg:https://calendar.stormontvail.org/wp-content/uploads/sites/4/2021/04/child-birth_tb.jpg
ORGANIZER;CN="Danielle Twemlow":MAILTO:danielle.twemlow@gmail.com
END:VEVENT
BEGIN:VEVENT
DTSTART;TZID=America/Chicago:20220806T120000
DTEND;TZID=America/Chicago:20220806T160000
DTSTAMP:20260421T092313
CREATED:20220729T211323Z
LAST-MODIFIED:20220802T205509Z
UID:10000630-1659787200-1659801600@calendar.stormontvail.org
SUMMARY:Sports Physicals
DESCRIPTION:Is your child ready for the upcoming sports season? Have they gotten their annual sports physical yet? If not\, our team at the Cotton O’Neil Express Care North will be performing KSHSAA sports physicals on August 6-8. \n\n\n\nCotton O’Neil Express Care North \n\n\n\n4505 NW Fielding Rd \n\n\n\nTopeka\, KS 66618 \n\n\n\nAugust 6 and 7: 12 – 4 p.m. \n\n\n\nAugust 8: 3 – 7 p.m. \n\n\n\nThe Kansas State High School Activities Association (KSHSAA) requires physicals for students involved in interscholastic athletics/cheerleading. A history and physical examination signed by a physician must be on file at your child’s school before they can participate in sports practices or events. A physical must be completed annually after May 1 preceding the school year for which it is applicable. The sports physical exam can be completed now for the upcoming school year.
URL:https://calendar.stormontvail.org/event/sports-physicals/2022-08-06/
ATTACH;FMTTYPE=image/jpeg:https://calendar.stormontvail.org/wp-content/uploads/sites/4/2022_SportsPhysicalsClinic_FBLinkedIn_1200x6281-1.jpg
END:VEVENT
END:VCALENDAR