BEGIN:VCALENDAR
VERSION:2.0
PRODID:-//Calendar &amp; Events - ECPv6.15.13//NONSGML v1.0//EN
CALSCALE:GREGORIAN
METHOD:PUBLISH
X-WR-CALNAME:Calendar &amp; Events
X-ORIGINAL-URL:https://calendar.stormontvail.org
X-WR-CALDESC:Events for Calendar &amp; Events
REFRESH-INTERVAL;VALUE=DURATION:PT1H
X-Robots-Tag:noindex
X-PUBLISHED-TTL:PT1H
BEGIN:VTIMEZONE
TZID:America/Chicago
BEGIN:DAYLIGHT
TZOFFSETFROM:-0600
TZOFFSETTO:-0500
TZNAME:CDT
DTSTART:20210314T080000
END:DAYLIGHT
BEGIN:STANDARD
TZOFFSETFROM:-0500
TZOFFSETTO:-0600
TZNAME:CST
DTSTART:20211107T070000
END:STANDARD
BEGIN:DAYLIGHT
TZOFFSETFROM:-0600
TZOFFSETTO:-0500
TZNAME:CDT
DTSTART:20220313T080000
END:DAYLIGHT
BEGIN:STANDARD
TZOFFSETFROM:-0500
TZOFFSETTO:-0600
TZNAME:CST
DTSTART:20221106T070000
END:STANDARD
BEGIN:DAYLIGHT
TZOFFSETFROM:-0600
TZOFFSETTO:-0500
TZNAME:CDT
DTSTART:20230312T080000
END:DAYLIGHT
BEGIN:STANDARD
TZOFFSETFROM:-0500
TZOFFSETTO:-0600
TZNAME:CST
DTSTART:20231105T070000
END:STANDARD
END:VTIMEZONE
BEGIN:VEVENT
DTSTART;TZID=America/Chicago:20221008T080000
DTEND;TZID=America/Chicago:20221008T100000
DTSTAMP:20260422T213649
CREATED:20220826T214058Z
LAST-MODIFIED:20220826T215827Z
UID:10000648-1665216000-1665223200@calendar.stormontvail.org
SUMMARY:Saturday Sports Injury Clinic
DESCRIPTION:Stormont Vail Health is once again hosting our Sports Injury Clinic to area high school athletes. This year\, we are opening our doors to all schools within our community. \n\n\n\nA sports medicine physician and an athletic trainer will see athletes who may need immediate care for an injury sustained during a game\, but didn’t need to visit the Emergency Department. \n\n\n\nThe clinic will be from 8 – 10 a.m. every Saturday from Sept. 3 – Oct. 29 at Cotton O’Neil Kanza Park\, 2660 SW Third St.\, in Topeka. No appointment is necessary. Please enter through the west doors and proceed to the second floor. \n\n\n\nInjuries appropriate for the clinic include: \n\n\n\nPotential fracturesTorn ligaments including ACLDislocations\n\n\n\nClinic visits will be billed to student athlete’s insurance and a specialty office visit co-pay will be assessed.
URL:https://calendar.stormontvail.org/event/sports-injury-clinic-2022/2022-10-08/
LOCATION:Cotton O’Neil Kanza Park\, 2660 S.W. 3rd St.\, Topeka\, KS\, 66606\, United States
ATTACH;FMTTYPE=image/jpeg:https://calendar.stormontvail.org/wp-content/uploads/sites/4/2022_SportsInjury_OrthoSports_Fall_Calendar.jpg
END:VEVENT
BEGIN:VEVENT
DTSTART;TZID=America/Chicago:20221008T083000
DTEND;TZID=America/Chicago:20221008T113000
DTSTAMP:20260422T213649
CREATED:20220922T183644Z
LAST-MODIFIED:20220922T190421Z
UID:10000674-1665217800-1665228600@calendar.stormontvail.org
SUMMARY:Manhattan Flu Shot Clinic
DESCRIPTION:What could be better than a pumpkin spice latte?! Drinking one while you know you’re safe from the flu!  \n\n\n\nMake your life easier by coming to our Adult Drive-Thru Flu Shot Clinic in Manhattan! \n\n\n\nStormont Vail Health is hosting a drive-thru flu shot clinic for any established patient who is 19 and older with no appointment necessary. \n\n\n\nDrive over to 1133 College Ave.\, in the Building E parking lot and enter the drive-thru off of Claflin Rd. \n\n\n\nSee our website for more details: https://www.stormontvail.org/flu/ \n\n\n\n*Must be a Stormont Vail Health or Cotton O’Neil patient and have received a flu shot from us previously*
URL:https://calendar.stormontvail.org/event/manhattan-flu-shot-clinic-2022/
LOCATION:Manhattan Drive-Thru Clinic\, 1133 College Ave\, Building E\, Manhattan\, Kansas\, 66502\, United States
ATTACH;FMTTYPE=image/jpeg:https://calendar.stormontvail.org/wp-content/uploads/sites/4/DriveThruFlu-Calendar.jpg
END:VEVENT
BEGIN:VEVENT
DTSTART;TZID=America/Chicago:20221008T090000
DTEND;TZID=America/Chicago:20221008T120000
DTSTAMP:20260422T213649
CREATED:20220310T211003Z
LAST-MODIFIED:20220721T021738Z
UID:10000563-1665219600-1665230400@calendar.stormontvail.org
SUMMARY:Car Seat Checkup Event
DESCRIPTION:Safe Kids Shawnee County and Stormont Vail Health partner to provide this event.  Meet with a certified Child Passenger Safety Technician to be sure your children ride safely.  Learn how to install your child’s car seat or booster seat.  Find out if it’s time for a change. \n\n\n\nTo prevent the spread of COVID-19: Maximum of 2 adults per car\, masks are required for adults\, and no COVID-19 symptoms or sick contacts. \n\n\n\nContact carseat@stormontvail.org with questions.
URL:https://calendar.stormontvail.org/event/car-seat-checkup-event-8/
LOCATION:Mission Township Fire\, 3101 SW Urish Rd\, Topeka\, Kansas\, 66614
CATEGORIES:Parenting & Pregnancy
ATTACH;FMTTYPE=image/png:https://calendar.stormontvail.org/wp-content/uploads/sites/4/2022/03/2022-check-lanes.png
ORGANIZER;CN="Laura Odom%2C RN%2C IBCLC":MAILTO:laodom@stormontvail.org
END:VEVENT
BEGIN:VEVENT
DTSTART;TZID=America/Chicago:20221008T090000
DTEND;TZID=America/Chicago:20221008T130000
DTSTAMP:20260422T213649
CREATED:20220526T204507Z
LAST-MODIFIED:20220918T205006Z
UID:10000616-1665219600-1665234000@calendar.stormontvail.org
SUMMARY:Childbirth Preparation (October 8 & 9) In-Person
DESCRIPTION:Our childbirth classes are taught by experienced educators and are designed to help you and your support person feel more prepared for your labor and delivery experience. Learn about the stages of labor\, pain management tools\, breathing and relaxation techniques\, how to involve your support person\, and more! Dress comfortably and feel free to bring a pillow to help you feel more comfortable during breathing and relaxation exercises. It is ideal for this class to be completed one month to six weeks prior to your due date. \n \n\n\n\nThis class will be held in the Stormont Vail Health Pozez Education Center where couples will be socially distanced. Masks are required. Please enter through the main entrance of Stormont Vail Health. \nNote: Enrollment includes expectant mother and one support person.  This weekend class option will meet two days in a row (October 8th and 9th) from 9 am to 1 pm each day to cover all content. \n\n\n\n\n 
URL:https://calendar.stormontvail.org/event/childbirth-preparation-october-8-9-in-person/
LOCATION:Stormont Vail Health Pozez Education Center\, 1500 SW 10th Ave\, Topeka\, KS\, 66604\, United States
CATEGORIES:Childbirth Preparation,Parenting & Pregnancy
ATTACH;FMTTYPE=image/jpeg:https://calendar.stormontvail.org/wp-content/uploads/sites/4/2021/04/child-birth_tb.jpg
ORGANIZER;CN="Danielle Twemlow":MAILTO:danielle.twemlow@gmail.com
END:VEVENT
END:VCALENDAR