BEGIN:VCALENDAR
VERSION:2.0
PRODID:-//Calendar &amp; Events - ECPv6.15.13//NONSGML v1.0//EN
CALSCALE:GREGORIAN
METHOD:PUBLISH
X-WR-CALNAME:Calendar &amp; Events
X-ORIGINAL-URL:https://calendar.stormontvail.org
X-WR-CALDESC:Events for Calendar &amp; Events
REFRESH-INTERVAL;VALUE=DURATION:PT1H
X-Robots-Tag:noindex
X-PUBLISHED-TTL:PT1H
BEGIN:VTIMEZONE
TZID:America/Chicago
BEGIN:DAYLIGHT
TZOFFSETFROM:-0600
TZOFFSETTO:-0500
TZNAME:CDT
DTSTART:20210314T080000
END:DAYLIGHT
BEGIN:STANDARD
TZOFFSETFROM:-0500
TZOFFSETTO:-0600
TZNAME:CST
DTSTART:20211107T070000
END:STANDARD
BEGIN:DAYLIGHT
TZOFFSETFROM:-0600
TZOFFSETTO:-0500
TZNAME:CDT
DTSTART:20220313T080000
END:DAYLIGHT
BEGIN:STANDARD
TZOFFSETFROM:-0500
TZOFFSETTO:-0600
TZNAME:CST
DTSTART:20221106T070000
END:STANDARD
BEGIN:DAYLIGHT
TZOFFSETFROM:-0600
TZOFFSETTO:-0500
TZNAME:CDT
DTSTART:20230312T080000
END:DAYLIGHT
BEGIN:STANDARD
TZOFFSETFROM:-0500
TZOFFSETTO:-0600
TZNAME:CST
DTSTART:20231105T070000
END:STANDARD
END:VTIMEZONE
BEGIN:VEVENT
DTSTART;TZID=America/Chicago:20221014T075000
DTEND;TZID=America/Chicago:20221014T165000
DTSTAMP:20260421T075943
CREATED:20220901T184808Z
LAST-MODIFIED:20220901T185033Z
UID:10000652-1665733800-1665766200@calendar.stormontvail.org
SUMMARY:Trauma & Critical Care Symposium
DESCRIPTION:Join us for our 2022 Trauma & Critical Care Symposium on Friday\, Oct. 14\, 7:50 a.m. to 4:50 p.m.  \n\n\n\nListen to experts discuss cutting-edge technology and procedures\, including pigtail catheters\, viscoelastography\, bedside ultrasounds\, reductions\, splinting\, traction\, and so much more. \n\n\n\nIn addition\, you’ll be able to put your new-found knowledge to work through skill stations.  \n\n\n\nLearn more and register at stormontvail.eeds.com.
URL:https://calendar.stormontvail.org/event/trauma-critical-care-symposium/
LOCATION:Pozez Education Center Auditorium\, 1505 SW 8th Ave\, Topeka\, Kansas\, 66606\, United States
ATTACH;FMTTYPE=image/jpeg:https://calendar.stormontvail.org/wp-content/uploads/sites/4/2022.8.29-TraumaSymposium-Calendar_FINAL-1.jpg
END:VEVENT
END:VCALENDAR