BEGIN:VCALENDAR
VERSION:2.0
PRODID:-//Calendar &amp; Events - ECPv6.15.13//NONSGML v1.0//EN
CALSCALE:GREGORIAN
METHOD:PUBLISH
X-WR-CALNAME:Calendar &amp; Events
X-ORIGINAL-URL:https://calendar.stormontvail.org
X-WR-CALDESC:Events for Calendar &amp; Events
REFRESH-INTERVAL;VALUE=DURATION:PT1H
X-Robots-Tag:noindex
X-PUBLISHED-TTL:PT1H
BEGIN:VTIMEZONE
TZID:America/Chicago
BEGIN:DAYLIGHT
TZOFFSETFROM:-0600
TZOFFSETTO:-0500
TZNAME:CDT
DTSTART:20210314T080000
END:DAYLIGHT
BEGIN:STANDARD
TZOFFSETFROM:-0500
TZOFFSETTO:-0600
TZNAME:CST
DTSTART:20211107T070000
END:STANDARD
BEGIN:DAYLIGHT
TZOFFSETFROM:-0600
TZOFFSETTO:-0500
TZNAME:CDT
DTSTART:20220313T080000
END:DAYLIGHT
BEGIN:STANDARD
TZOFFSETFROM:-0500
TZOFFSETTO:-0600
TZNAME:CST
DTSTART:20221106T070000
END:STANDARD
BEGIN:DAYLIGHT
TZOFFSETFROM:-0600
TZOFFSETTO:-0500
TZNAME:CDT
DTSTART:20230312T080000
END:DAYLIGHT
BEGIN:STANDARD
TZOFFSETFROM:-0500
TZOFFSETTO:-0600
TZNAME:CST
DTSTART:20231105T070000
END:STANDARD
END:VTIMEZONE
BEGIN:VEVENT
DTSTART;TZID=America/Chicago:20221210T090000
DTEND;TZID=America/Chicago:20221210T103000
DTSTAMP:20260424T055055
CREATED:20211201T164254Z
LAST-MODIFIED:20220721T020638Z
UID:10000500-1670662800-1670668200@calendar.stormontvail.org
SUMMARY:STOP THE BLEED
DESCRIPTION:Minutes count! Someone who is severely bleeding can bleed to death in as little as 5 minutes. That’s why bleeding control—keeping the blood inside the body—is the purpose of STOP THE BLEED® training. \n\n\n\nThe person next to a bleeding victim may very well be the one who’s most likely to save him or her from bleeding to death. By learning how to STOP THE BLEED®\, you’ll gain the ability to recognize life-threatening bleeding and act quickly and effectively to control bleeding once you learn three quick techniques. Take the STOP THE BLEED® training course and become empowered to make a life or death difference when a bleeding emergency happens.
URL:https://calendar.stormontvail.org/event/stop-the-bleed-12/
LOCATION:Stormont Vail Health Pozez Education Center\, 1500 SW 10th Ave\, Topeka\, KS\, 66604\, United States
ATTACH;FMTTYPE=image/png:https://calendar.stormontvail.org/wp-content/uploads/sites/4/2021/11/Stop-the-Bleed-logo.png
ORGANIZER;CN="Brian Aeschliman":MAILTO:brian.aeschliman@stormontvail.org
END:VEVENT
BEGIN:VEVENT
DTSTART;TZID=America/Chicago:20221210T090000
DTEND;TZID=America/Chicago:20221210T120000
DTSTAMP:20260424T055055
CREATED:20220310T211929Z
LAST-MODIFIED:20220721T020740Z
UID:10000565-1670662800-1670673600@calendar.stormontvail.org
SUMMARY:Car Seat Checkup Event
DESCRIPTION:Safe Kids Shawnee County and Stormont Vail Health partner to provide this event.  Meet with a certified Child Passenger Safety Technician to be sure your children ride safely.  Learn how to install your child’s car seat or booster seat.  Find out if it’s time for a change. \n\n\n\nTo prevent the spread of COVID-19: Maximum of 2 adults per car\, masks are required for adults\, and no COVID-19 symptoms or sick contacts. \n\n\n\nContact carseat@stormontvail.org with questions.
URL:https://calendar.stormontvail.org/event/car-seat-checkup-event-10/
LOCATION:Soldier Township Fire\, 600 NW 46th St\, Topeka\, Kansas\, 66617
CATEGORIES:Parenting & Pregnancy
ATTACH;FMTTYPE=image/png:https://calendar.stormontvail.org/wp-content/uploads/sites/4/2022/03/calendar.stormontvail.org-image-2160px-X-1080px-1.png
ORGANIZER;CN="Laura Odom%2C RN%2C IBCLC":MAILTO:laodom@stormontvail.org
END:VEVENT
END:VCALENDAR