BEGIN:VCALENDAR
VERSION:2.0
PRODID:-//Calendar &amp; Events - ECPv6.15.13//NONSGML v1.0//EN
CALSCALE:GREGORIAN
METHOD:PUBLISH
X-ORIGINAL-URL:https://calendar.stormontvail.org
X-WR-CALDESC:Events for Calendar &amp; Events
REFRESH-INTERVAL;VALUE=DURATION:PT1H
X-Robots-Tag:noindex
X-PUBLISHED-TTL:PT1H
BEGIN:VTIMEZONE
TZID:America/Chicago
BEGIN:DAYLIGHT
TZOFFSETFROM:-0600
TZOFFSETTO:-0500
TZNAME:CDT
DTSTART:20230312T080000
END:DAYLIGHT
BEGIN:STANDARD
TZOFFSETFROM:-0500
TZOFFSETTO:-0600
TZNAME:CST
DTSTART:20231105T070000
END:STANDARD
BEGIN:DAYLIGHT
TZOFFSETFROM:-0600
TZOFFSETTO:-0500
TZNAME:CDT
DTSTART:20240310T080000
END:DAYLIGHT
BEGIN:STANDARD
TZOFFSETFROM:-0500
TZOFFSETTO:-0600
TZNAME:CST
DTSTART:20241103T070000
END:STANDARD
BEGIN:DAYLIGHT
TZOFFSETFROM:-0600
TZOFFSETTO:-0500
TZNAME:CDT
DTSTART:20250309T080000
END:DAYLIGHT
BEGIN:STANDARD
TZOFFSETFROM:-0500
TZOFFSETTO:-0600
TZNAME:CST
DTSTART:20251102T070000
END:STANDARD
END:VTIMEZONE
BEGIN:VEVENT
DTSTART;TZID=America/Chicago:20240329T083000
DTEND;TZID=America/Chicago:20240329T160000
DTSTAMP:20260423T160851
CREATED:20240214T221755Z
LAST-MODIFIED:20240214T222748Z
UID:10002596-1711701000-1711728000@calendar.stormontvail.org
SUMMARY:2024 Bi-State Stroke Consortium Symposium
DESCRIPTION:While experts anticipate the number of strokes to increase with the growing older adult population\, concerning trends show a rise in strokes affecting people under 55 years old. By continuing their education and training\, healthcare providers can help curb these rates and support at-risk patients with effective prevention and patient education. \n\n\n\nStormont Vail Health invites team members\, local healthcare professionals\, and students to join the 2024 Bi-State Stroke Consortium Symposium on Friday\, Mar. 29\, 2024\, from 8:30 a.m. to 4 p.m. at the Stormont Vail Topeka Hospital Pozez Education Center Auditorium. \n\n\n\nStormont Vail and Mayo Clinic experts will discuss advancements in stroke care\, guidelines\, and prevention as stroke survivors and family members highlight and humanize these insights with firsthand experiences of recovery and caregiving.  \n\n\n\nInterested individuals can find additional details and registration information on the Stormont Vail Continuing Education Portal: www.eeds.com/portal_live_events.aspx?ConferenceID=318108. \n\n\n\nBi-State Consortium and EMS personnel members may attend the symposium at no charge. Click here for a complete list of Consortium members. \n\n\n\nNon-Consortium Member Registration \n\n\n\nHINK Discount Available \n\n\n\n\n$75/Non-Physicians\n\n\n\n$150/Physicians\n\n\n\n$15/Student (must provide student ID upon request)\n\n\n\n\nEmail for questions : learning&talentdev@stormontvail.org \n\n\n\n\nRegister Here
URL:https://calendar.stormontvail.org/event/2024-bi-state-stroke-consortium-symposium/
LOCATION:KS
CATEGORIES:Healthcare Career
ATTACH;FMTTYPE=image/jpeg:https://calendar.stormontvail.org/wp-content/uploads/sites/4/BiState-Stroke-Symp-2024-Calendar-1536x768-1.jpg
END:VEVENT
END:VCALENDAR