BEGIN:VCALENDAR
VERSION:2.0
PRODID:-//Calendar &amp; Events - ECPv6.15.13//NONSGML v1.0//EN
CALSCALE:GREGORIAN
METHOD:PUBLISH
X-ORIGINAL-URL:https://calendar.stormontvail.org
X-WR-CALDESC:Events for Calendar &amp; Events
REFRESH-INTERVAL;VALUE=DURATION:PT1H
X-Robots-Tag:noindex
X-PUBLISHED-TTL:PT1H
BEGIN:VTIMEZONE
TZID:America/Chicago
BEGIN:DAYLIGHT
TZOFFSETFROM:-0600
TZOFFSETTO:-0500
TZNAME:CDT
DTSTART:20230312T080000
END:DAYLIGHT
BEGIN:STANDARD
TZOFFSETFROM:-0500
TZOFFSETTO:-0600
TZNAME:CST
DTSTART:20231105T070000
END:STANDARD
BEGIN:DAYLIGHT
TZOFFSETFROM:-0600
TZOFFSETTO:-0500
TZNAME:CDT
DTSTART:20240310T080000
END:DAYLIGHT
BEGIN:STANDARD
TZOFFSETFROM:-0500
TZOFFSETTO:-0600
TZNAME:CST
DTSTART:20241103T070000
END:STANDARD
BEGIN:DAYLIGHT
TZOFFSETFROM:-0600
TZOFFSETTO:-0500
TZNAME:CDT
DTSTART:20250309T080000
END:DAYLIGHT
BEGIN:STANDARD
TZOFFSETFROM:-0500
TZOFFSETTO:-0600
TZNAME:CST
DTSTART:20251102T070000
END:STANDARD
END:VTIMEZONE
BEGIN:VEVENT
DTSTART;TZID=America/Chicago:20240908T140000
DTEND;TZID=America/Chicago:20240908T160000
DTSTAMP:20260419T201508
CREATED:20240718T140448Z
LAST-MODIFIED:20240718T140629Z
UID:10002640-1725804000-1725811200@calendar.stormontvail.org
SUMMARY:Welcome Baby Jubilee
DESCRIPTION:As Fall approaches\, we invite you to welcome the season of change (and new life!) at Welcome Baby Jubilee! \n\n\n\n\nAt this special community event\, expectant parents and their support people will:\n\n\n\nMeet new families from around our community\n\n\n\nGet to know our team and tour the Birthplace\n\n\n\nHear answers to new mom FAQs\n\n\n\nFind resources for parents and babies from local vendors\n\n\n\nEnter prize drawings for diapers\, clothes\, blankets\, and more\n\n\n\n\nTdap Boosters Available – Just in Time for Grandparent’s Day!Additionally\, we’ll provide Tdap shots for partners and support people to ensure the well-being of infants and everyone around them. Remember to bring your insurance card to receive this critical vaccine! \n\n\n\nWe look forward to meeting you and celebrating the arrival of new life in our community!
URL:https://calendar.stormontvail.org/event/welcome-baby-jubilee-090824/
LOCATION:Stormont Vail Health Pozez Education Center\, 1500 SW 10th Ave\, Topeka\, KS\, 66604\, United States
ORGANIZER;CN="Savanna Gaumer":MAILTO:Savanna.Gaumer@stormontvail.org
END:VEVENT
END:VCALENDAR