BEGIN:VCALENDAR
VERSION:2.0
PRODID:-//Calendar &amp; Events - ECPv6.15.13//NONSGML v1.0//EN
CALSCALE:GREGORIAN
METHOD:PUBLISH
X-ORIGINAL-URL:https://calendar.stormontvail.org
X-WR-CALDESC:Events for Calendar &amp; Events
REFRESH-INTERVAL;VALUE=DURATION:PT1H
X-Robots-Tag:noindex
X-PUBLISHED-TTL:PT1H
BEGIN:VTIMEZONE
TZID:America/Chicago
BEGIN:DAYLIGHT
TZOFFSETFROM:-0600
TZOFFSETTO:-0500
TZNAME:CDT
DTSTART:20230312T080000
END:DAYLIGHT
BEGIN:STANDARD
TZOFFSETFROM:-0500
TZOFFSETTO:-0600
TZNAME:CST
DTSTART:20231105T070000
END:STANDARD
BEGIN:DAYLIGHT
TZOFFSETFROM:-0600
TZOFFSETTO:-0500
TZNAME:CDT
DTSTART:20240310T080000
END:DAYLIGHT
BEGIN:STANDARD
TZOFFSETFROM:-0500
TZOFFSETTO:-0600
TZNAME:CST
DTSTART:20241103T070000
END:STANDARD
BEGIN:DAYLIGHT
TZOFFSETFROM:-0600
TZOFFSETTO:-0500
TZNAME:CDT
DTSTART:20250309T080000
END:DAYLIGHT
BEGIN:STANDARD
TZOFFSETFROM:-0500
TZOFFSETTO:-0600
TZNAME:CST
DTSTART:20251102T070000
END:STANDARD
END:VTIMEZONE
BEGIN:VEVENT
DTSTART;TZID=America/Chicago:20240925T080000
DTEND;TZID=America/Chicago:20240925T160000
DTSTAMP:20260422T121816
CREATED:20240709T174211Z
LAST-MODIFIED:20240709T174214Z
UID:10002639-1727251200-1727280000@calendar.stormontvail.org
SUMMARY:S.T.A.B.L.E. 2024
DESCRIPTION:Objectives: \n\n\n\n\nIdentify signs of hypoglycemia and recommended treatment.\n\n\n\nIdentify signs of respiratory distress and discuss issuesconcerning adequate ventilation and oxygenation.\n\n\n\nDifferentiate between hypovolemic and septic shock.\n\n\n\nList risk factors that predispose the neonate to infection and sepsis.\n\n\n\nExplain and apply acid-base alignment nomograms.\n\n\n\nDiscuss special needs of families of transported infants.For additional information go to stormontvail.eeds.com
URL:https://calendar.stormontvail.org/event/s-t-a-b-l-e-2024/
LOCATION:Stormont Vail Hospital – Centennial A\, 1500 SW 10th Ave\, Topeka\, Kansas\, 66604\, United States
END:VEVENT
END:VCALENDAR