BEGIN:VCALENDAR
VERSION:2.0
PRODID:-//Calendar &amp; Events - ECPv6.15.13//NONSGML v1.0//EN
CALSCALE:GREGORIAN
METHOD:PUBLISH
X-WR-CALNAME:Calendar &amp; Events
X-ORIGINAL-URL:https://calendar.stormontvail.org
X-WR-CALDESC:Events for Calendar &amp; Events
REFRESH-INTERVAL;VALUE=DURATION:PT1H
X-Robots-Tag:noindex
X-PUBLISHED-TTL:PT1H
BEGIN:VTIMEZONE
TZID:America/Chicago
BEGIN:DAYLIGHT
TZOFFSETFROM:-0600
TZOFFSETTO:-0500
TZNAME:CDT
DTSTART:20240310T080000
END:DAYLIGHT
BEGIN:STANDARD
TZOFFSETFROM:-0500
TZOFFSETTO:-0600
TZNAME:CST
DTSTART:20241103T070000
END:STANDARD
BEGIN:DAYLIGHT
TZOFFSETFROM:-0600
TZOFFSETTO:-0500
TZNAME:CDT
DTSTART:20250309T080000
END:DAYLIGHT
BEGIN:STANDARD
TZOFFSETFROM:-0500
TZOFFSETTO:-0600
TZNAME:CST
DTSTART:20251102T070000
END:STANDARD
BEGIN:DAYLIGHT
TZOFFSETFROM:-0600
TZOFFSETTO:-0500
TZNAME:CDT
DTSTART:20260308T080000
END:DAYLIGHT
BEGIN:STANDARD
TZOFFSETFROM:-0500
TZOFFSETTO:-0600
TZNAME:CST
DTSTART:20261101T070000
END:STANDARD
END:VTIMEZONE
BEGIN:VEVENT
DTSTART;TZID=America/Chicago:20251014T080000
DTEND;TZID=America/Chicago:20251014T170000
DTSTAMP:20260425T213344
CREATED:20251016T203422Z
LAST-MODIFIED:20251016T203431Z
UID:10002859-1760428800-1760461200@calendar.stormontvail.org
SUMMARY:2025 Questions & Qdoba + FREE NCLEX Review
DESCRIPTION:Stormont Vail Health invites RN and LPN students nearing graduation to a free NCLEX review session—a chance to sharpen your exam skills and enjoy a great meal with fellow future nurses. \n\n\n\n📅 Tuesday\, Oct. 14\, 2025 \n\n\n\n🕠 5:30–8 p.m. \n\n\n\n📍 Pozez Education Center\, Stormont Vail Hospital \n\n\n\nTo save your spot\, email nursingcareers@stormontvail.org. \n\n\n\nWalk-ins are welcome\, but registered attendees will receive priority. Special thanks to the Baker School of Nursing faculty for their support in making this event possible.
URL:https://calendar.stormontvail.org/event/2025-questions-qdoba-free-nclex-review/
LOCATION:KS
ATTACH;FMTTYPE=image/jpeg:https://calendar.stormontvail.org/wp-content/uploads/sites/4/2025-Questions-and-Qdoba2-StormConn-SVNews-1.jpg
END:VEVENT
BEGIN:VEVENT
DTSTART;TZID=America/Chicago:20251014T120000
DTEND;TZID=America/Chicago:20251014T130000
DTSTAMP:20260425T213344
CREATED:20250506T185212Z
LAST-MODIFIED:20250506T185216Z
UID:10002806-1760443200-1760446800@calendar.stormontvail.org
SUMMARY:Stormont Vail Grand Rounds
DESCRIPTION:Grand Rounds are offered in person at Stormont Vail Hospital – Topeka Campus are virtually via Zoom platform. Navigate to stormontvail.eeds.com for details and zoom links. 
URL:https://calendar.stormontvail.org/event/stormont-vail-grand-rounds-6/
LOCATION:Stormont Vail Hospital – Topeka Campus\, 1500 SW 10th Ave\, Topeka\, Kansas\, 66604
END:VEVENT
BEGIN:VEVENT
DTSTART;TZID=America/Chicago:20251014T140000
DTEND;TZID=America/Chicago:20251014T150000
DTSTAMP:20260425T213344
CREATED:20250811T153856Z
LAST-MODIFIED:20250811T154022Z
UID:10002826-1760450400-1760454000@calendar.stormontvail.org
SUMMARY:Free Medicare Educational Seminars
DESCRIPTION:Navigate Medicare with Confidence—Join or Share this Free Seminar! \n\n\n\nStormont Vail Health\, with R.W. Evenson\, Inc.\, hosts free Medicare Educational Seminars at the Cotton O’Neil Heart Center and Stormont Vail Manhattan Campus. \n\n\n\nIt’s great for anyone new to Medicare or looking to better understand: \n\n\n\n\nOriginal Medicare\n\n\n\nSupplement and Drug Plans\n\n\n\nMedicare Advantage\n\n\n\nHow to enroll in any of these options\n\n\n\n\nCall (785) 266-9160 to register.
URL:https://calendar.stormontvail.org/event/free-medicare-educational-seminars/2025-10-14/
LOCATION:Stormont Vail Manhattan Campus\, 1325 Research Park Drive\, Manhattan\, Kansas\, 66502\, United States
END:VEVENT
BEGIN:VEVENT
DTSTART;TZID=America/Chicago:20251014T173000
DTEND;TZID=America/Chicago:20251014T200000
DTSTAMP:20260425T213344
CREATED:20251013T202254Z
LAST-MODIFIED:20251013T202302Z
UID:10002858-1760463000-1760472000@calendar.stormontvail.org
SUMMARY:2025 Questions & Qdoba
DESCRIPTION:Stormont Vail Health is excited to invite RN and LPN students nearing graduation to a free NCLEX review session—a chance to sharpen your exam skills and enjoy a great meal with fellow future nurses. \n\n\n\n📅 Tuesday\, Oct. 14\, 2025 \n\n\n\n🕠 5:30–8 p.m. \n\n\n\n📍 Pozez Education Center\, Stormont Vail Hospital \n\n\n\nTo save your spot\, email nursingcareers@stormontvail.org. \n\n\n\nWalk-ins are welcome\, but registered attendees will receive priority. \n\n\n\nSpecial thanks to the Baker School of Nursing faculty for their support in making this event possible!
URL:https://calendar.stormontvail.org/event/2025-questions-qdoba/
LOCATION:Stormont Vail Health Pozez Education Center\, 1500 SW 10th Ave\, Topeka\, KS\, 66604\, United States
ATTACH;FMTTYPE=image/jpeg:https://calendar.stormontvail.org/wp-content/uploads/sites/4/2025-Questions-and-Qdoba2-StormConn-SVNews.jpg
END:VEVENT
END:VCALENDAR