BEGIN:VCALENDAR
VERSION:2.0
PRODID:-//Calendar &amp; Events - ECPv6.15.13//NONSGML v1.0//EN
CALSCALE:GREGORIAN
METHOD:PUBLISH
X-WR-CALNAME:Calendar &amp; Events
X-ORIGINAL-URL:https://calendar.stormontvail.org
X-WR-CALDESC:Events for Calendar &amp; Events
REFRESH-INTERVAL;VALUE=DURATION:PT1H
X-Robots-Tag:noindex
X-PUBLISHED-TTL:PT1H
BEGIN:VTIMEZONE
TZID:America/Chicago
BEGIN:DAYLIGHT
TZOFFSETFROM:-0600
TZOFFSETTO:-0500
TZNAME:CDT
DTSTART:20230312T080000
END:DAYLIGHT
BEGIN:STANDARD
TZOFFSETFROM:-0500
TZOFFSETTO:-0600
TZNAME:CST
DTSTART:20231105T070000
END:STANDARD
BEGIN:DAYLIGHT
TZOFFSETFROM:-0600
TZOFFSETTO:-0500
TZNAME:CDT
DTSTART:20240310T080000
END:DAYLIGHT
BEGIN:STANDARD
TZOFFSETFROM:-0500
TZOFFSETTO:-0600
TZNAME:CST
DTSTART:20241103T070000
END:STANDARD
BEGIN:DAYLIGHT
TZOFFSETFROM:-0600
TZOFFSETTO:-0500
TZNAME:CDT
DTSTART:20250309T080000
END:DAYLIGHT
BEGIN:STANDARD
TZOFFSETFROM:-0500
TZOFFSETTO:-0600
TZNAME:CST
DTSTART:20251102T070000
END:STANDARD
END:VTIMEZONE
BEGIN:VEVENT
DTSTART;TZID=America/Chicago:20240402T000000
DTEND;TZID=America/Chicago:20240402T235959
DTSTAMP:20260425T113848
CREATED:20240111T194759Z
LAST-MODIFIED:20240112T161645Z
UID:10002547-1712016000-1712102399@calendar.stormontvail.org
SUMMARY:Children’s Miracle Network Club Carwash
DESCRIPTION:Every Tuesday in 2024\, you can be a Children’s Miracle Network MVP at Club Car Wash! Check out the link below to learn how you can help children in northeast Kansas while getting your vehicle to look shiny and new. \n\n\n\n\nLearn More
URL:https://calendar.stormontvail.org/event/childrens-miracle-network-club-carwash/2024-04-02/
CATEGORIES:Community Events & Classes
ATTACH;FMTTYPE=image/jpeg:https://calendar.stormontvail.org/wp-content/uploads/sites/4/CMN-ClubCarwash-12Tuesday-Socials.jpg
END:VEVENT
BEGIN:VEVENT
DTSTART;TZID=America/Chicago:20240406T100000
DTEND;TZID=America/Chicago:20240406T120000
DTSTAMP:20260425T113848
CREATED:20240110T214922Z
LAST-MODIFIED:20240117T154643Z
UID:10002532-1712397600-1712404800@calendar.stormontvail.org
SUMMARY:Car Seats: Beyond the Basics Course
DESCRIPTION:In this course\, certified Child Passenger Safety Technicians will teach you everything you need to know about car seat safety\, including Kansas laws\, the latest research on safely transporting children\, and hands-on experience installing different types of seats. \n\n\n\nParticipants who complete the program will receive a FREE car seat! \n\n\n\n\nMaximum of one seat per household (while supplies last)\n\n\n\n\nTo minimize distractions\, we ask that children not attend. However\, if this will prevent you from attending\, please email carseat@stormontvail.org so we can arrange accommodations \n\n\n\nSeating is limited to 10 couples per class\, so save your spot before it’s gone!
URL:https://calendar.stormontvail.org/event/car-seats-beyond-the-basics-course-2/
LOCATION:Stormont Vail Health Pozez Education Center\, 1500 SW 10th Ave\, Topeka\, KS\, 66604\, United States
CATEGORIES:Community Events & Classes,Parenting & Pregnancy
ATTACH;FMTTYPE=image/jpeg:https://calendar.stormontvail.org/wp-content/uploads/sites/4/CarSeats-BeyondBasics-GraphicsSM-440x220-1.jpg
ORGANIZER;CN="Stormont Vail Health and Safe Kids Shawnee County":MAILTO:carseat@stormontvail.org
END:VEVENT
BEGIN:VEVENT
DTSTART;TZID=America/Chicago:20240407T140000
DTEND;TZID=America/Chicago:20240407T160000
DTSTAMP:20260425T113848
CREATED:20240201T203954Z
LAST-MODIFIED:20240215T163240Z
UID:10002595-1712498400-1712505600@calendar.stormontvail.org
SUMMARY:Welcome Baby Jubilee
DESCRIPTION:Is your family welcoming a new member soon?! Join us at our spring Welcome Baby Jubilee event at Stormont Vail Health Topeka Campus. From touring the Stormont Vail Birthplace to chatting with vendors and registering for prizes\, this event is sure to be fun. Discover why our Mother & Baby team is the right choice for you!
URL:https://calendar.stormontvail.org/event/welcome-baby-jubilee-040724/
LOCATION:Stormont Vail Health Pozez Education Center\, 1500 SW 10th Ave\, Topeka\, KS\, 66604\, United States
CATEGORIES:Community Events & Classes,Parenting & Pregnancy,Welcome Baby Jubilee
ATTACH;FMTTYPE=image/jpeg:https://calendar.stormontvail.org/wp-content/uploads/sites/4/2022/03/WelcomeBabyJubilee-Calendar.jpg
END:VEVENT
BEGIN:VEVENT
DTSTART;TZID=America/Chicago:20240409T000000
DTEND;TZID=America/Chicago:20240409T235959
DTSTAMP:20260425T113848
CREATED:20240111T194759Z
LAST-MODIFIED:20240112T161645Z
UID:10002548-1712620800-1712707199@calendar.stormontvail.org
SUMMARY:Children’s Miracle Network Club Carwash
DESCRIPTION:Every Tuesday in 2024\, you can be a Children’s Miracle Network MVP at Club Car Wash! Check out the link below to learn how you can help children in northeast Kansas while getting your vehicle to look shiny and new. \n\n\n\n\nLearn More
URL:https://calendar.stormontvail.org/event/childrens-miracle-network-club-carwash/2024-04-09/
CATEGORIES:Community Events & Classes
ATTACH;FMTTYPE=image/jpeg:https://calendar.stormontvail.org/wp-content/uploads/sites/4/CMN-ClubCarwash-12Tuesday-Socials.jpg
END:VEVENT
BEGIN:VEVENT
DTSTART;TZID=America/Chicago:20240411T090000
DTEND;TZID=America/Chicago:20240411T160000
DTSTAMP:20260425T113848
CREATED:20240110T204720Z
LAST-MODIFIED:20240405T162532Z
UID:10002529-1712826000-1712851200@calendar.stormontvail.org
SUMMARY:Older Adult Resource Fair (Full)
DESCRIPTION:Are you comfortable behind the wheel? Do you feel safe staying at home? Have you planned for your medical care in the event you can no longer communicate your wishes? \n\n\n\nThe Stormont Vail Health Trauma Services department wants to help older adults answer these questions at an Older Adult Resource Fair from 9 a.m. to 4 p.m. April 11\, 2024\, at the Topeka and Shawnee County Public Library\, 1515 SW 10th Ave. \n\n\n\nTopics will include various community resources for older adults\, as well as Stormont Vail’s Fall Prevention Program. The day will conclude with a CarFit check lane\, where trained volunteers will ensure you have the safest fit inside your vehicle. The event is free\, and lunch will be provided.
URL:https://calendar.stormontvail.org/event/older-adult-resource-fair/
LOCATION:Shawnee County Public Library\, 1515 SW 10th Ave.\, Topeka\, Kansas\, 66604\, United States
CATEGORIES:Community Events & Classes
ATTACH;FMTTYPE=image/png:https://calendar.stormontvail.org/wp-content/uploads/sites/4/default-featured-img.png
ORGANIZER;CN="Ann Buckland":MAILTO:abucklan@stormontvail.org
END:VEVENT
BEGIN:VEVENT
DTSTART;TZID=America/Chicago:20240413T090000
DTEND;TZID=America/Chicago:20240413T120000
DTSTAMP:20260425T113848
CREATED:20240130T172018Z
LAST-MODIFIED:20240130T172024Z
UID:10002588-1712998800-1713009600@calendar.stormontvail.org
SUMMARY:Car Seat Checkup Event
DESCRIPTION:Learn how to install your child’s car seat or booster seat at the first car seat checkup event of 2024 scheduled to take place 9 a.m.-noon Mar. 9 at Shawnee Co Health Dept. 2600 SW East Circle Drive\, Topeka. \n\n\n\nSafe Kids Shawnee County and Stormont Vail Health partner to provide this event. A certified Child Passenger Safety Technician will make sure your children are riding safely and help you find out if it’s time for a change. \n\n\n\nThe checkup event takes place on the second Saturday of each month\, so if you missed January’s event\, make sure to put it on your calendar for next month. \n\n\n\nTo learn more\, contact carseat@stormontvail.org.
URL:https://calendar.stormontvail.org/event/car-seat-checkup-event-22/
CATEGORIES:Community Events & Classes
ATTACH;FMTTYPE=image/jpeg:https://calendar.stormontvail.org/wp-content/uploads/sites/4/2024_CarSeatCheckUps_Calendar-1.jpg
ORGANIZER;CN="Teresa Taylor":MAILTO:teresa.taylor@stormontvail.org
END:VEVENT
BEGIN:VEVENT
DTSTART;TZID=America/Chicago:20240416T000000
DTEND;TZID=America/Chicago:20240416T235959
DTSTAMP:20260425T113848
CREATED:20240111T194759Z
LAST-MODIFIED:20240112T161645Z
UID:10002549-1713225600-1713311999@calendar.stormontvail.org
SUMMARY:Children’s Miracle Network Club Carwash
DESCRIPTION:Every Tuesday in 2024\, you can be a Children’s Miracle Network MVP at Club Car Wash! Check out the link below to learn how you can help children in northeast Kansas while getting your vehicle to look shiny and new. \n\n\n\n\nLearn More
URL:https://calendar.stormontvail.org/event/childrens-miracle-network-club-carwash/2024-04-16/
CATEGORIES:Community Events & Classes
ATTACH;FMTTYPE=image/jpeg:https://calendar.stormontvail.org/wp-content/uploads/sites/4/CMN-ClubCarwash-12Tuesday-Socials.jpg
END:VEVENT
BEGIN:VEVENT
DTSTART;TZID=America/Chicago:20240423T000000
DTEND;TZID=America/Chicago:20240423T235959
DTSTAMP:20260425T113848
CREATED:20240111T194759Z
LAST-MODIFIED:20240112T161645Z
UID:10002550-1713830400-1713916799@calendar.stormontvail.org
SUMMARY:Children’s Miracle Network Club Carwash
DESCRIPTION:Every Tuesday in 2024\, you can be a Children’s Miracle Network MVP at Club Car Wash! Check out the link below to learn how you can help children in northeast Kansas while getting your vehicle to look shiny and new. \n\n\n\n\nLearn More
URL:https://calendar.stormontvail.org/event/childrens-miracle-network-club-carwash/2024-04-23/
CATEGORIES:Community Events & Classes
ATTACH;FMTTYPE=image/jpeg:https://calendar.stormontvail.org/wp-content/uploads/sites/4/CMN-ClubCarwash-12Tuesday-Socials.jpg
END:VEVENT
BEGIN:VEVENT
DTSTART;TZID=America/Chicago:20240430T000000
DTEND;TZID=America/Chicago:20240430T235959
DTSTAMP:20260425T113848
CREATED:20240111T194759Z
LAST-MODIFIED:20240112T161645Z
UID:10002551-1714435200-1714521599@calendar.stormontvail.org
SUMMARY:Children’s Miracle Network Club Carwash
DESCRIPTION:Every Tuesday in 2024\, you can be a Children’s Miracle Network MVP at Club Car Wash! Check out the link below to learn how you can help children in northeast Kansas while getting your vehicle to look shiny and new. \n\n\n\n\nLearn More
URL:https://calendar.stormontvail.org/event/childrens-miracle-network-club-carwash/2024-04-30/
CATEGORIES:Community Events & Classes
ATTACH;FMTTYPE=image/jpeg:https://calendar.stormontvail.org/wp-content/uploads/sites/4/CMN-ClubCarwash-12Tuesday-Socials.jpg
END:VEVENT
END:VCALENDAR