BEGIN:VCALENDAR
VERSION:2.0
PRODID:-//Calendar &amp; Events - ECPv6.15.13//NONSGML v1.0//EN
CALSCALE:GREGORIAN
METHOD:PUBLISH
X-ORIGINAL-URL:https://calendar.stormontvail.org
X-WR-CALDESC:Events for Calendar &amp; Events
REFRESH-INTERVAL;VALUE=DURATION:PT1H
X-Robots-Tag:noindex
X-PUBLISHED-TTL:PT1H
BEGIN:VTIMEZONE
TZID:America/Chicago
BEGIN:DAYLIGHT
TZOFFSETFROM:-0600
TZOFFSETTO:-0500
TZNAME:CDT
DTSTART:20250309T080000
END:DAYLIGHT
BEGIN:STANDARD
TZOFFSETFROM:-0500
TZOFFSETTO:-0600
TZNAME:CST
DTSTART:20251102T070000
END:STANDARD
BEGIN:DAYLIGHT
TZOFFSETFROM:-0600
TZOFFSETTO:-0500
TZNAME:CDT
DTSTART:20260308T080000
END:DAYLIGHT
BEGIN:STANDARD
TZOFFSETFROM:-0500
TZOFFSETTO:-0600
TZNAME:CST
DTSTART:20261101T070000
END:STANDARD
BEGIN:DAYLIGHT
TZOFFSETFROM:-0600
TZOFFSETTO:-0500
TZNAME:CDT
DTSTART:20270314T080000
END:DAYLIGHT
BEGIN:STANDARD
TZOFFSETFROM:-0500
TZOFFSETTO:-0600
TZNAME:CST
DTSTART:20271107T070000
END:STANDARD
END:VTIMEZONE
BEGIN:VEVENT
DTSTART;TZID=America/Chicago:20260923T100000
DTEND;TZID=America/Chicago:20260923T150000
DTSTAMP:20260424T050444
CREATED:20260422T180646Z
LAST-MODIFIED:20260422T180821Z
UID:10002949-1790157600-1790175600@calendar.stormontvail.org
SUMMARY:Community Blood Drive
DESCRIPTION:Join us for our upcoming Community Blood Drive! Your donation can save up to three lives. \n\n\n\n\nWednesday\, Sept. 23\, 2026\n\n\n\n10 a.m.–3 p.m.\n\n\n\nCentennial Rooms A & D\, Stormont Vail Hospital\n\n\n\n\nSign up at savealifenow.org/group \n\n\n\nUse group code TPKS. \n\n\n\nQuestions? \n\n\n\nContact Melissa Morgan at (785) 270-4788 or melissa.morgan@stormontvail.org.
URL:https://calendar.stormontvail.org/event/community-blood-drive-sept-2026/
LOCATION:Stormont Vail Health in Centennial Rooms A & D\, 1500 SW 10th Ave\, Topeka\, Kansas\, 66604\, United States
CATEGORIES:Blood Drives
END:VEVENT
END:VCALENDAR