BEGIN:VCALENDAR
VERSION:2.0
PRODID:-//Calendar &amp; Events - ECPv6.15.13//NONSGML v1.0//EN
CALSCALE:GREGORIAN
METHOD:PUBLISH
X-ORIGINAL-URL:https://calendar.stormontvail.org
X-WR-CALDESC:Events for Calendar &amp; Events
REFRESH-INTERVAL;VALUE=DURATION:PT1H
X-Robots-Tag:noindex
X-PUBLISHED-TTL:PT1H
BEGIN:VTIMEZONE
TZID:America/Chicago
BEGIN:DAYLIGHT
TZOFFSETFROM:-0600
TZOFFSETTO:-0500
TZNAME:CDT
DTSTART:20230312T080000
END:DAYLIGHT
BEGIN:STANDARD
TZOFFSETFROM:-0500
TZOFFSETTO:-0600
TZNAME:CST
DTSTART:20231105T070000
END:STANDARD
BEGIN:DAYLIGHT
TZOFFSETFROM:-0600
TZOFFSETTO:-0500
TZNAME:CDT
DTSTART:20240310T080000
END:DAYLIGHT
BEGIN:STANDARD
TZOFFSETFROM:-0500
TZOFFSETTO:-0600
TZNAME:CST
DTSTART:20241103T070000
END:STANDARD
BEGIN:DAYLIGHT
TZOFFSETFROM:-0600
TZOFFSETTO:-0500
TZNAME:CDT
DTSTART:20250309T080000
END:DAYLIGHT
BEGIN:STANDARD
TZOFFSETFROM:-0500
TZOFFSETTO:-0600
TZNAME:CST
DTSTART:20251102T070000
END:STANDARD
END:VTIMEZONE
BEGIN:VEVENT
DTSTART;TZID=America/Chicago:20240613T153000
DTEND;TZID=America/Chicago:20240613T180000
DTSTAMP:20260424T062506
CREATED:20240221T203537Z
LAST-MODIFIED:20240221T203916Z
UID:10002598-1718292600-1718301600@calendar.stormontvail.org
SUMMARY:2024 Celebration of Life Event
DESCRIPTION:Our annual Celebration of Life event honors donors who gave the gift of organ\, eye\, and tissue donation\, their loved ones who supported their selfless decision\, and the recipients who received a second chance at life. \n\n\n\n\n“Not only do we live among the stars\, the stars live within us.”  \n– Neil DeGrasse Tyson\n\n\n\nThe noble act of organ\, eye\, and tissue donation reminds us that we all have the power to make a difference\, even after life.
URL:https://calendar.stormontvail.org/event/2024-celebration-of-life-event/
LOCATION:Stormont Vail Health Topeka Hospital – Pavilion Tower Lobby\, 1500 SW 10th Ave.\, Topeka\, Kansas\, 66604\, United States
CATEGORIES:Community Events & Classes
END:VEVENT
END:VCALENDAR