BEGIN:VCALENDAR
VERSION:2.0
PRODID:-//Calendar &amp; Events - ECPv6.15.13//NONSGML v1.0//EN
CALSCALE:GREGORIAN
METHOD:PUBLISH
X-WR-CALNAME:Calendar &amp; Events
X-ORIGINAL-URL:https://calendar.stormontvail.org
X-WR-CALDESC:Events for Calendar &amp; Events
REFRESH-INTERVAL;VALUE=DURATION:PT1H
X-Robots-Tag:noindex
X-PUBLISHED-TTL:PT1H
BEGIN:VTIMEZONE
TZID:America/Chicago
BEGIN:DAYLIGHT
TZOFFSETFROM:-0600
TZOFFSETTO:-0500
TZNAME:CDT
DTSTART:20220313T080000
END:DAYLIGHT
BEGIN:STANDARD
TZOFFSETFROM:-0500
TZOFFSETTO:-0600
TZNAME:CST
DTSTART:20221106T070000
END:STANDARD
BEGIN:DAYLIGHT
TZOFFSETFROM:-0600
TZOFFSETTO:-0500
TZNAME:CDT
DTSTART:20230312T080000
END:DAYLIGHT
BEGIN:STANDARD
TZOFFSETFROM:-0500
TZOFFSETTO:-0600
TZNAME:CST
DTSTART:20231105T070000
END:STANDARD
BEGIN:DAYLIGHT
TZOFFSETFROM:-0600
TZOFFSETTO:-0500
TZNAME:CDT
DTSTART:20240310T080000
END:DAYLIGHT
BEGIN:STANDARD
TZOFFSETFROM:-0500
TZOFFSETTO:-0600
TZNAME:CST
DTSTART:20241103T070000
END:STANDARD
END:VTIMEZONE
BEGIN:VEVENT
DTSTART;TZID=America/Chicago:20231203T133000
DTEND;TZID=America/Chicago:20231203T153000
DTSTAMP:20260424T184817
CREATED:20230407T215432Z
LAST-MODIFIED:20230407T215436Z
UID:10002350-1701610200-1701617400@calendar.stormontvail.org
SUMMARY:Breastfeeding Basics In-Person
DESCRIPTION:This introduction to breastfeeding will provide pregnant people and their families an opportunity to learn about breastfeeding before their baby is born. Classes are designed to help families prepare for the breastfeeding experience by providing information on how breastfeeding works\, how to get started\, problems that may arise and how to incorporate breastfeeding and working. \nThis class will be held in the Stormont Vail Health Auditorium. Please enter through the main entrance of Stormont Vail Health. \nNote: Enrollment includes expectant parent and one support person.
URL:https://calendar.stormontvail.org/event/breastfeeding-basics-in-person-20/
LOCATION:Stormont Vail Health Pozez Education Center\, 1500 SW 10th Ave\, Topeka\, KS\, 66604\, United States
CATEGORIES:Breastfeeding Basics,Parenting & Pregnancy
ATTACH;FMTTYPE=image/png:https://calendar.stormontvail.org/wp-content/uploads/sites/4/2021/04/Breastfeeding-Class-1.png
ORGANIZER;CN="Ashley Seematter":MAILTO:aseematt@stormontvail.org
END:VEVENT
BEGIN:VEVENT
DTSTART;TZID=America/Chicago:20231206T180000
DTEND;TZID=America/Chicago:20231206T201500
DTSTAMP:20260424T184817
CREATED:20230406T214922Z
LAST-MODIFIED:20230909T183857Z
UID:10002340-1701885600-1701893700@calendar.stormontvail.org
SUMMARY:Childbirth Preparation (December 6\, 13\, & 20) In-Person
DESCRIPTION:Our childbirth classes are taught by experienced educators and are designed to help you and your support person feel more prepared for your labor and delivery experience. Learn about the stages of labor\, pain management tools\, breathing and relaxation techniques\, how to involve your support person\, and more! Dress comfortably and feel free to bring a pillow to help you feel more comfortable during breathing and relaxation exercises. It is ideal for this class to be completed one month to six weeks prior to your due date. \nThis class will be held in the Stormont Vail Health Pozez Education Center. Please enter through the main entrance of Stormont Vail Health. \nNote: Enrollment includes expectant mother and one support person.  This class is a series event and will meet December 6th\, 13th\, and 20th from 6 to 8:15 pm each night. \n\n\n\n 
URL:https://calendar.stormontvail.org/event/childbirth-preparation-december-6-13-20-in-person/
LOCATION:Stormont Vail Health Pozez Education Center\, 1500 SW 10th Ave\, Topeka\, KS\, 66604\, United States
CATEGORIES:Childbirth Preparation,Parenting & Pregnancy
ATTACH;FMTTYPE=image/jpeg:https://calendar.stormontvail.org/wp-content/uploads/sites/4/2021/09/06.16.21-Birthing-Class-Photos_90-scaled.jpg
ORGANIZER;CN="Laura Odom%2C RN%2C IBCLC":MAILTO:laodom@stormontvail.org
END:VEVENT
BEGIN:VEVENT
DTSTART;TZID=America/Chicago:20231209T090000
DTEND;TZID=America/Chicago:20231209T120000
DTSTAMP:20260424T184817
CREATED:20230413T211455Z
LAST-MODIFIED:20230413T211459Z
UID:10002365-1702112400-1702123200@calendar.stormontvail.org
SUMMARY:Car Seat Checkup Event
DESCRIPTION:Safe Kids Shawnee County and Stormont Vail Health partner to provide this event.  Meet with a certified Child Passenger Safety Technician to be sure your children ride safely.  Learn how to install your child’s car seat or booster seat.  Find out if it’s time for a change. \n\n\n\nTo prevent the spread of COVID-19: Maximum of 2 adults per car\, masks are required for adults\, and no COVID-19 symptoms or sick contacts. \n\n\n\nContact carseat@stormontvail.org with questions.
URL:https://calendar.stormontvail.org/event/car-seat-checkup-event-19/
LOCATION:Topeka Fire Station #5\, 720 SW 21st St.\, Topeka\, Kansas\, United States
CATEGORIES:Parenting & Pregnancy
ATTACH;FMTTYPE=image/png:https://calendar.stormontvail.org/wp-content/uploads/sites/4/2022/03/2022-check-lanes.png
END:VEVENT
END:VCALENDAR