BEGIN:VCALENDAR
VERSION:2.0
PRODID:-//Calendar &amp; Events - ECPv6.15.13//NONSGML v1.0//EN
CALSCALE:GREGORIAN
METHOD:PUBLISH
X-WR-CALNAME:Calendar &amp; Events
X-ORIGINAL-URL:https://calendar.stormontvail.org
X-WR-CALDESC:Events for Calendar &amp; Events
REFRESH-INTERVAL;VALUE=DURATION:PT1H
X-Robots-Tag:noindex
X-PUBLISHED-TTL:PT1H
BEGIN:VTIMEZONE
TZID:America/Chicago
BEGIN:DAYLIGHT
TZOFFSETFROM:-0600
TZOFFSETTO:-0500
TZNAME:CDT
DTSTART:20230312T080000
END:DAYLIGHT
BEGIN:STANDARD
TZOFFSETFROM:-0500
TZOFFSETTO:-0600
TZNAME:CST
DTSTART:20231105T070000
END:STANDARD
BEGIN:DAYLIGHT
TZOFFSETFROM:-0600
TZOFFSETTO:-0500
TZNAME:CDT
DTSTART:20240310T080000
END:DAYLIGHT
BEGIN:STANDARD
TZOFFSETFROM:-0500
TZOFFSETTO:-0600
TZNAME:CST
DTSTART:20241103T070000
END:STANDARD
BEGIN:DAYLIGHT
TZOFFSETFROM:-0600
TZOFFSETTO:-0500
TZNAME:CDT
DTSTART:20250309T080000
END:DAYLIGHT
BEGIN:STANDARD
TZOFFSETFROM:-0500
TZOFFSETTO:-0600
TZNAME:CST
DTSTART:20251102T070000
END:STANDARD
END:VTIMEZONE
BEGIN:VEVENT
DTSTART;TZID=America/Chicago:20240303T133000
DTEND;TZID=America/Chicago:20240303T153000
DTSTAMP:20260425T213814
CREATED:20230909T193806Z
LAST-MODIFIED:20230909T193810Z
UID:10002416-1709472600-1709479800@calendar.stormontvail.org
SUMMARY:Breastfeeding Basics In-Person
DESCRIPTION:This introduction to breastfeeding will provide pregnant people and their families an opportunity to learn about breastfeeding before their baby is born. Classes are designed to help families prepare for the breastfeeding experience by providing information on how breastfeeding works\, how to get started\, problems that may arise and how to incorporate breastfeeding and working. \nThis class will be held in the Stormont Vail Health Auditorium. Please enter through the main entrance of Stormont Vail Health. \nNote: Enrollment includes expectant parent and one support person.
URL:https://calendar.stormontvail.org/event/breastfeeding-basics-in-person-23/
LOCATION:Stormont Vail Health Pozez Education Center\, 1500 SW 10th Ave\, Topeka\, KS\, 66604\, United States
CATEGORIES:Breastfeeding Basics,Parenting & Pregnancy
ATTACH;FMTTYPE=image/png:https://calendar.stormontvail.org/wp-content/uploads/sites/4/2021/04/Breastfeeding-Class-1.png
ORGANIZER;CN="Ashley Seematter":MAILTO:aseematt@stormontvail.org
END:VEVENT
BEGIN:VEVENT
DTSTART;TZID=America/Chicago:20240309T090000
DTEND;TZID=America/Chicago:20240309T120000
DTSTAMP:20260425T213814
CREATED:20240130T171906Z
LAST-MODIFIED:20240228T200319Z
UID:10002587-1709974800-1709985600@calendar.stormontvail.org
SUMMARY:Car Seat Checkup Event
DESCRIPTION:Learn how to install your child’s car seat or booster seat at the first car seat checkup event of 2024 scheduled to take place 9 a.m.-noon Mar. 9 at Silver Lake High School 200 East Lake St\, Silver Lake. \n\n\n\nSafe Kids Shawnee County and Stormont Vail Health partner to provide this event. A certified Child Passenger Safety Technician will make sure your children are riding safely and help you find out if it’s time for a change. \n\n\n\nThe checkup event takes place on the second Saturday of each month\, so if you missed January’s event\, make sure to put it on your calendar for next month. \n\n\n\nTo learn more\, contact carseat@stormontvail.org.
URL:https://calendar.stormontvail.org/event/car-seat-checkup-event-21/
CATEGORIES:Car Seat Check-Up Event,Community Events & Classes
ATTACH;FMTTYPE=image/jpeg:https://calendar.stormontvail.org/wp-content/uploads/sites/4/2024_CarSeatCheckUps_Calendar-1.jpg
ORGANIZER;CN="Teresa Taylor":MAILTO:teresa.taylor@stormontvail.org
END:VEVENT
BEGIN:VEVENT
DTSTART;TZID=America/Chicago:20240309T090000
DTEND;TZID=America/Chicago:20240309T130000
DTSTAMP:20260425T213814
CREATED:20230910T004635Z
LAST-MODIFIED:20230910T004638Z
UID:10002418-1709974800-1709989200@calendar.stormontvail.org
SUMMARY:Childbirth Preparation (March 9th & 10th) In-Person
DESCRIPTION:Our childbirth classes are taught by experienced educators and are designed to help you and your support person feel more prepared for your labor and delivery experience. Learn about the stages of labor\, pain management tools\, breathing and relaxation techniques\, how to involve your support person\, and more! Dress comfortably and feel free to bring a pillow to help you feel more comfortable during breathing and relaxation exercises. It is ideal for this class to be completed one month to six weeks prior to your due date. \n\n\n\n\nThis class will be held in the Stormont Vail Health Pozez Education Center. Please enter through the main entrance of Stormont Vail Health. \nNote: Enrollment includes expectant mother and one support person.  This weekend class option will meet two days in a row (March 9th & 10th) from 9 am to 1 pm each day to cover all content. \n\n\n\n 
URL:https://calendar.stormontvail.org/event/childbirth-preparation-march-9th-10th-in-person/
LOCATION:Stormont Vail Health Pozez Education Center\, 1500 SW 10th Ave\, Topeka\, KS\, 66604\, United States
CATEGORIES:Childbirth Preparation,Parenting & Pregnancy
ATTACH;FMTTYPE=image/jpeg:https://calendar.stormontvail.org/wp-content/uploads/sites/4/2021/04/child-birth_tb.jpg
ORGANIZER;CN="Danielle Twemlow":MAILTO:danielle.twemlow@gmail.com
END:VEVENT
BEGIN:VEVENT
DTSTART;TZID=America/Chicago:20240309T150000
DTEND;TZID=America/Chicago:20240309T160000
DTSTAMP:20260425T213814
CREATED:20230909T183111Z
LAST-MODIFIED:20230909T183113Z
UID:10002409-1709996400-1710000000@calendar.stormontvail.org
SUMMARY:Sibling Class Ages 7 and Up
DESCRIPTION:This class explores the very special roles of big brother and big sister. Instructors discuss what to expect after the baby comes and how to help the older child adjust to the new baby.
URL:https://calendar.stormontvail.org/event/sibling-class-ages-7-and-up-11/
LOCATION:Stormont Vail Health Pozez Education Center\, 1500 SW 10th Ave\, Topeka\, KS\, 66604\, United States
CATEGORIES:Parenting & Pregnancy
ATTACH;FMTTYPE=image/jpeg:https://calendar.stormontvail.org/wp-content/uploads/sites/4/2021/04/child-birth_tb.jpg
ORGANIZER;CN="Amy Calhoun":MAILTO:acalhoun@stormontvail.org
END:VEVENT
BEGIN:VEVENT
DTSTART;TZID=America/Chicago:20240320T180000
DTEND;TZID=America/Chicago:20240320T193000
DTSTAMP:20260425T213814
CREATED:20230909T193156Z
LAST-MODIFIED:20230909T193159Z
UID:10002412-1710957600-1710963000@calendar.stormontvail.org
SUMMARY:Online Childbirth Preparation (March 20\, 27\, April 3)
DESCRIPTION:Our childbirth classes are taught by experienced educators and are designed to help you and your support person feel more prepared for your labor and delivery experience. Learn about the stages of labor\, pain management tools\, breathing and relaxation techniques\, how to involve your support person\, and more! \nOnline childbirth class will be an online meeting with experienced instructors to review information and answer questions. The class will consist of three sessions (March 20\, 27\, and April 3rd) to cover all content. Instructors will communicate via email with a link to join the virtual meeting. \nNote: Enrollment includes one expectant mother and one support person.  \nResources users can download and keep for later use \nBreathing Techniques \nExample of a Simplified Birth Plan \nHospital Bag Checklist \nImagery & Relaxation Example \nTouch Relaxation
URL:https://calendar.stormontvail.org/event/online-childbirth-preparation-march-20-27-april-3/
LOCATION:Online\, See event details for more information
CATEGORIES:Childbirth Preparation,Parenting & Pregnancy
ATTACH;FMTTYPE=image/jpeg:https://calendar.stormontvail.org/wp-content/uploads/sites/4/2021/03/WomensServices_virtualclass_1008x500.jpg
ORGANIZER;CN="Laura Odom%2C RN%2C IBCLC":MAILTO:laodom@stormontvail.org
END:VEVENT
BEGIN:VEVENT
DTSTART;TZID=America/Chicago:20240324T133000
DTEND;TZID=America/Chicago:20240324T160000
DTSTAMP:20260425T213814
CREATED:20231130T220206Z
LAST-MODIFIED:20231130T220209Z
UID:10002504-1711287000-1711296000@calendar.stormontvail.org
SUMMARY:Welcome Baby Class
DESCRIPTION:This class is designed to provide up to date information about newborn care\, safe sleep\, car seat safety\, calming a fussy baby\, feedings\, and more.  Adjustments to parenthood as well as nurturing your relationship with your support person will also be covered in this class. Mothers are welcome to bring their support person\, family or a friend who provides support during their pregnancy and beyond.  Class will consist of a combination of presentation and hands on practice of techniques such as diapering and swaddling.  \nClass is held in the Pozez Education Center Auditorium at Stormont Vail Hospital.
URL:https://calendar.stormontvail.org/event/welcome-baby-class-8/
LOCATION:Stormont Vail Health Pozez Education Center\, 1500 SW 10th Ave\, Topeka\, KS\, 66604\, United States
CATEGORIES:Parenting & Pregnancy,Welcome Baby Jubilee
ATTACH;FMTTYPE=image/jpeg:https://calendar.stormontvail.org/wp-content/uploads/sites/4/2021/04/mother-baby_tb.jpg
ORGANIZER;CN="Laura Odom":MAILTO:laodom@stormontvail.org
END:VEVENT
END:VCALENDAR