BEGIN:VCALENDAR
VERSION:2.0
PRODID:-//Calendar &amp; Events - ECPv6.15.13//NONSGML v1.0//EN
CALSCALE:GREGORIAN
METHOD:PUBLISH
X-ORIGINAL-URL:https://calendar.stormontvail.org
X-WR-CALDESC:Events for Calendar &amp; Events
REFRESH-INTERVAL;VALUE=DURATION:PT1H
X-Robots-Tag:noindex
X-PUBLISHED-TTL:PT1H
BEGIN:VTIMEZONE
TZID:America/Chicago
BEGIN:DAYLIGHT
TZOFFSETFROM:-0600
TZOFFSETTO:-0500
TZNAME:CDT
DTSTART:20230312T080000
END:DAYLIGHT
BEGIN:STANDARD
TZOFFSETFROM:-0500
TZOFFSETTO:-0600
TZNAME:CST
DTSTART:20231105T070000
END:STANDARD
BEGIN:DAYLIGHT
TZOFFSETFROM:-0600
TZOFFSETTO:-0500
TZNAME:CDT
DTSTART:20240310T080000
END:DAYLIGHT
BEGIN:STANDARD
TZOFFSETFROM:-0500
TZOFFSETTO:-0600
TZNAME:CST
DTSTART:20241103T070000
END:STANDARD
BEGIN:DAYLIGHT
TZOFFSETFROM:-0600
TZOFFSETTO:-0500
TZNAME:CDT
DTSTART:20250309T080000
END:DAYLIGHT
BEGIN:STANDARD
TZOFFSETFROM:-0500
TZOFFSETTO:-0600
TZNAME:CST
DTSTART:20251102T070000
END:STANDARD
END:VTIMEZONE
BEGIN:VEVENT
DTSTART;TZID=America/Chicago:20240911T180000
DTEND;TZID=America/Chicago:20240911T200000
DTSTAMP:20260425T093311
CREATED:20240110T222952Z
LAST-MODIFIED:20240830T134047Z
UID:10002535-1726077600-1726084800@calendar.stormontvail.org
SUMMARY:Car Seats: Beyond the Basics Course
DESCRIPTION:In this course\, certified Child Passenger Safety Technicians will teach you everything you need to know about car seat safety\, including Kansas laws\, the latest research on safely transporting children\, and hands-on experience installing different types of seats. \n\n\n\nParticipants who complete the program will receive a FREE car seat! \n\n\n\n\nMaximum of one seat per household (while supplies last)\n\n\n\n\nTo minimize distractions\, we ask that children not attend. However\, if this will prevent you from attending\, please email carseat@stormontvail.org so we can arrange accommodations \n\n\n\nSeating is limited to 10 couples per class\, so save your spot before it’s gone!
URL:https://calendar.stormontvail.org/event/car-seats-beyond-the-basics-course-5/
LOCATION:Stormont Vail Health Topeka Campus\, 1500 SW 10th Ave\, Topeka\, Kansas\, 66604\, United States
CATEGORIES:Community Events & Classes,Parenting & Pregnancy
ATTACH;FMTTYPE=image/jpeg:https://calendar.stormontvail.org/wp-content/uploads/sites/4/CarSeats-BeyondBasics-GraphicsSM-440x220-1.jpg
ORGANIZER;CN="Stormont Vail Health and Safe Kids Shawnee County":MAILTO:carseat@stormontvail.org
END:VEVENT
BEGIN:VEVENT
DTSTART;TZID=America/Chicago:20240914T090000
DTEND;TZID=America/Chicago:20240914T120000
DTSTAMP:20260425T093311
CREATED:20240130T172832Z
LAST-MODIFIED:20240909T155307Z
UID:10002591-1726304400-1726315200@calendar.stormontvail.org
SUMMARY:Car Seat Checkup Event
DESCRIPTION:Learn how to install your child’s car seat or booster seat at the first car seat checkup event of 2024 scheduled to take place 9 a.m.-noon Sep 14 at Shawnee Co Health Dept. 2600 SW East Circle Drive\, Topeka. \n\n\n\nSafe Kids Shawnee County and Stormont Vail Health partner to provide this event. A certified Child Passenger Safety Technician will make sure your children are riding safely and help you find out if it’s time for a change. \n\n\n\nThe checkup event takes place on the second Saturday of each month\, in different locations each month. \n\n\n\nTo learn more\, contact carseat@stormontvail.org.
URL:https://calendar.stormontvail.org/event/car-seat-checkup-event-25/
CATEGORIES:Car Seat Check-Up Event,Car Seat Checkup Event,Car Seats: Beyond the Basics Course,Community Events & Classes,Parenting & Pregnancy
ATTACH;FMTTYPE=image/jpeg:https://calendar.stormontvail.org/wp-content/uploads/sites/4/2024_CarSeatCheckUps_Calendar-1.jpg
ORGANIZER;CN="Teresa Taylor":MAILTO:teresa.taylor@stormontvail.org
END:VEVENT
BEGIN:VEVENT
DTSTART;TZID=America/Chicago:20240914T090000
DTEND;TZID=America/Chicago:20240914T130000
DTSTAMP:20260425T093311
CREATED:20240407T191901Z
LAST-MODIFIED:20240408T160507Z
UID:10002617-1726304400-1726318800@calendar.stormontvail.org
SUMMARY:Childbirth Preparation (Sept 14th & 15th)
DESCRIPTION:Motherhood\, and parenting. Mother kissing her sleeping baby boy on cheek.\n\n\nOur childbirth classes are taught by experienced educators and are designed to help you and your support person feel more prepared for your labor and delivery experience. Learn about the stages of labor\, pain management tools\, breathing and relaxation techniques\, how to involve your support person\, and more! Dress comfortably and feel free to bring a pillow to help you feel more comfortable during breathing and relaxation exercises. It is ideal for this class to be completed one month to six weeks prior to your due date. \n \n\n\n\nThis class will be held in the Stormont Vail Health Pozez Education Center. Please enter through the main entrance of Stormont Vail Health. \nNote: Enrollment includes expectant mother and one support person.  This weekend class option will meet two days in a row (Sept. 14th &15th) from 9 am to 1 pm each day to cover all content.
URL:https://calendar.stormontvail.org/event/childbirth-preparation-sept-14th-15th-in-person/
LOCATION:Stormont Vail Health Pozez Education Center\, 1500 SW 10th Ave\, Topeka\, KS\, 66604\, United States
CATEGORIES:Childbirth Preparation,Parenting & Pregnancy
ATTACH;FMTTYPE=image/jpeg:https://calendar.stormontvail.org/wp-content/uploads/sites/4/2021/04/child-birth_tb.jpg
ORGANIZER;CN="Danielle Twemlow":MAILTO:danielle.twemlow@gmail.com
END:VEVENT
BEGIN:VEVENT
DTSTART;TZID=America/Chicago:20240914T133000
DTEND;TZID=America/Chicago:20240914T143000
DTSTAMP:20260425T093311
CREATED:20240313T205943Z
LAST-MODIFIED:20240624T211220Z
UID:10002612-1726320600-1726324200@calendar.stormontvail.org
SUMMARY:Sibling Class Ages 3-6 years
DESCRIPTION:This class explores the very special roles of big brother and big sister. Instructors discuss what to expect after the baby comes and how to help the older child adjust to the new baby.
URL:https://calendar.stormontvail.org/event/sibling-class-ages-3-6-years-11/
LOCATION:Stormont Vail Health Pozez Education Center\, 1500 SW 10th Ave\, Topeka\, KS\, 66604\, United States
CATEGORIES:Parenting & Pregnancy
ATTACH;FMTTYPE=image/jpeg:https://calendar.stormontvail.org/wp-content/uploads/sites/4/2021/04/child-birth_tb.jpg
ORGANIZER;CN="Amy Calhoun":MAILTO:acalhoun@stormontvail.org
END:VEVENT
BEGIN:VEVENT
DTSTART;TZID=America/Chicago:20240914T150000
DTEND;TZID=America/Chicago:20240914T160000
DTSTAMP:20260425T093311
CREATED:20240313T210126Z
LAST-MODIFIED:20240313T210129Z
UID:10002613-1726326000-1726329600@calendar.stormontvail.org
SUMMARY:Sibling Class Ages 7 and Up
DESCRIPTION:This class explores the very special roles of big brother and big sister. Instructors discuss what to expect after the baby comes and how to help the older child adjust to the new baby.
URL:https://calendar.stormontvail.org/event/sibling-class-ages-7-and-up-14/
LOCATION:Stormont Vail Health Pozez Education Center\, 1500 SW 10th Ave\, Topeka\, KS\, 66604\, United States
CATEGORIES:Parenting & Pregnancy
ATTACH;FMTTYPE=image/jpeg:https://calendar.stormontvail.org/wp-content/uploads/sites/4/2021/04/child-birth_tb.jpg
ORGANIZER;CN="Amy Calhoun":MAILTO:acalhoun@stormontvail.org
END:VEVENT
BEGIN:VEVENT
DTSTART;TZID=America/Chicago:20240918T180000
DTEND;TZID=America/Chicago:20240918T193000
DTSTAMP:20260425T093311
CREATED:20240228T213157Z
LAST-MODIFIED:20240918T042217Z
UID:10002602-1726682400-1726687800@calendar.stormontvail.org
SUMMARY:Online Childbirth Preparation (Sept 18\, 25\, & Oct 2)
DESCRIPTION:Childbirth ClassHosted by Odom\, Laura \n\n\n\nhttps://stormontvail.webex.com/stormontvail/j.php?MTID=m67ff35e4d05589ed6dab616a5d4219b6Wednesday\, September 18\, 2024 6:00 PM | 1 hour 30 minutes | (UTC-05:00) Central Time (US & Canada)Occurs every Wednesday effective 9/18/2024 until 10/2/2024 from 6:00 PM to 7:30 PM\, (UTC-05:00) Central Time (US & Canada)Meeting number: 2499 716 6171Password: k3pBtmPWZ32 \n\n\n\nJoin by video systemDial 24997166171@stormontvail.webex.comYou can also dial 173.243.2.68 and enter your meeting number. \n\n\n\nJoin by phone+1-415-655-0002 United States Toll \n\n\n\nAccess code: 249 971 66171
URL:https://calendar.stormontvail.org/event/online-childbirth-preparation-sept-18-25-oct-2/
LOCATION:Online\, See event details for more information
CATEGORIES:Childbirth Preparation,Parenting & Pregnancy
ATTACH;FMTTYPE=image/jpeg:https://calendar.stormontvail.org/wp-content/uploads/sites/4/2021/03/WomensServices_virtualclass_1008x500.jpg
ORGANIZER;CN="Laura Odom%2C RN%2C IBCLC":MAILTO:laodom@stormontvail.org
END:VEVENT
BEGIN:VEVENT
DTSTART;TZID=America/Chicago:20240922T133000
DTEND;TZID=America/Chicago:20240922T160000
DTSTAMP:20260425T093311
CREATED:20240410T195133Z
LAST-MODIFIED:20240410T195136Z
UID:10002625-1727011800-1727020800@calendar.stormontvail.org
SUMMARY:Welcome Baby Class
DESCRIPTION:This class is designed to provide up to date information about newborn care\, safe sleep\, car seat safety\, calming a fussy baby\, feedings\, and more.  Adjustments to parenthood as well as nurturing your relationship with your support person will also be covered in this class. Mothers are welcome to bring their support person\, family or a friend who provides support during their pregnancy and beyond.  Class will consist of a combination of presentation and hands on practice of techniques such as diapering and swaddling.  \nClass is held in the Pozez Education Center Auditorium at Stormont Vail Hospital.
URL:https://calendar.stormontvail.org/event/welcome-baby-class-12/
LOCATION:Stormont Vail Health Pozez Education Center\, 1500 SW 10th Ave\, Topeka\, KS\, 66604\, United States
CATEGORIES:Parenting & Pregnancy,Welcome Baby Jubilee
ATTACH;FMTTYPE=image/jpeg:https://calendar.stormontvail.org/wp-content/uploads/sites/4/2021/04/mother-baby_tb.jpg
ORGANIZER;CN="Laura Odom":MAILTO:laodom@stormontvail.org
END:VEVENT
BEGIN:VEVENT
DTSTART;TZID=America/Chicago:20240928T090000
DTEND;TZID=America/Chicago:20240928T120000
DTSTAMP:20260425T093311
CREATED:20240414T185748Z
LAST-MODIFIED:20240710T154408Z
UID:10002628-1727514000-1727524800@calendar.stormontvail.org
SUMMARY:Girl to Woman
DESCRIPTION:  \nThe time in a girls life between the ages of 8-12 is one of physical and emotional changes. This program for girls and their parent will address menstruation and other physical changes of puberty\, the emotional upheaval of adolescence and communication techniques for parent and daughter. \n \nFee: $25 for each parent/child duo; $12.50 for each additional sibling. Payment is collected at class.Note: RSVP includes one parent/child duo. \n 
URL:https://calendar.stormontvail.org/event/girl-to-woman-6/
LOCATION:Stormont Vail Health Pozez Education Center\, 1500 SW 10th Ave\, Topeka\, KS\, 66604\, United States
CATEGORIES:Girl to Woman
ATTACH;FMTTYPE=image/png:https://calendar.stormontvail.org/wp-content/uploads/sites/4/2021/10/girl-to-woman_banner.png
ORGANIZER;CN="Danielle Twemlow":MAILTO:danielle.twemlow@gmail.com
END:VEVENT
BEGIN:VEVENT
DTSTART;TZID=America/Chicago:20240929T133000
DTEND;TZID=America/Chicago:20240929T153000
DTSTAMP:20260425T093311
CREATED:20240408T165345Z
LAST-MODIFIED:20240408T165348Z
UID:10002622-1727616600-1727623800@calendar.stormontvail.org
SUMMARY:Breastfeeding Basics
DESCRIPTION:This introduction to breastfeeding will provide pregnant people and their families an opportunity to learn about breastfeeding before their baby is born. Classes are designed to help families prepare for the breastfeeding experience by providing information on how breastfeeding works\, how to get started\, problems that may arise and how to incorporate breastfeeding and working. \nThis class will be held in the Stormont Vail Health Auditorium. Please enter through the main entrance of Stormont Vail Health. \nNote: Enrollment includes expectant parent and one support person.
URL:https://calendar.stormontvail.org/event/breastfeeding-basics-4/
LOCATION:Stormont Vail Health Pozez Education Center\, 1500 SW 10th Ave\, Topeka\, KS\, 66604\, United States
CATEGORIES:Breastfeeding Basics,Parenting & Pregnancy
ATTACH;FMTTYPE=image/png:https://calendar.stormontvail.org/wp-content/uploads/sites/4/2021/04/Breastfeeding-Class-1.png
END:VEVENT
END:VCALENDAR