BEGIN:VCALENDAR
VERSION:2.0
PRODID:-//Calendar &amp; Events - ECPv6.15.13//NONSGML v1.0//EN
CALSCALE:GREGORIAN
METHOD:PUBLISH
X-WR-CALNAME:Calendar &amp; Events
X-ORIGINAL-URL:https://calendar.stormontvail.org
X-WR-CALDESC:Events for Calendar &amp; Events
REFRESH-INTERVAL;VALUE=DURATION:PT1H
X-Robots-Tag:noindex
X-PUBLISHED-TTL:PT1H
BEGIN:VTIMEZONE
TZID:America/Chicago
BEGIN:DAYLIGHT
TZOFFSETFROM:-0600
TZOFFSETTO:-0500
TZNAME:CDT
DTSTART:20230312T080000
END:DAYLIGHT
BEGIN:STANDARD
TZOFFSETFROM:-0500
TZOFFSETTO:-0600
TZNAME:CST
DTSTART:20231105T070000
END:STANDARD
BEGIN:DAYLIGHT
TZOFFSETFROM:-0600
TZOFFSETTO:-0500
TZNAME:CDT
DTSTART:20240310T080000
END:DAYLIGHT
BEGIN:STANDARD
TZOFFSETFROM:-0500
TZOFFSETTO:-0600
TZNAME:CST
DTSTART:20241103T070000
END:STANDARD
BEGIN:DAYLIGHT
TZOFFSETFROM:-0600
TZOFFSETTO:-0500
TZNAME:CDT
DTSTART:20250309T080000
END:DAYLIGHT
BEGIN:STANDARD
TZOFFSETFROM:-0500
TZOFFSETTO:-0600
TZNAME:CST
DTSTART:20251102T070000
END:STANDARD
END:VTIMEZONE
BEGIN:VEVENT
DTSTART;TZID=America/Chicago:20241012T090000
DTEND;TZID=America/Chicago:20241012T120000
DTSTAMP:20260425T090901
CREATED:20240130T173351Z
LAST-MODIFIED:20240909T155048Z
UID:10002593-1728723600-1728734400@calendar.stormontvail.org
SUMMARY:Car Seat Checkup Event
DESCRIPTION:Learn how to install your child’s car seat or booster seat at the first car seat checkup event of 2024 scheduled to take place 9 a.m.-noon Oct 12 at Pine Ridge Prep School 1100 SE Highland Ave\, Topeka. \n\n\n\nSafe Kids Shawnee County and Stormont Vail Health partner to provide this event. A certified Child Passenger Safety Technician will make sure your children are riding safely and help you find out if it’s time for a change. \n\n\n\nThe checkup event takes place on the second Saturday of each month\, in different locations each month. \n\n\n\nTo learn more\, contact carseat@stormontvail.org.
URL:https://calendar.stormontvail.org/event/car-seat-checkup-event-27/
CATEGORIES:Car Seat Check-Up Event,Car Seat Checkup Event,Community Events & Classes,Parenting & Pregnancy
ATTACH;FMTTYPE=image/jpeg:https://calendar.stormontvail.org/wp-content/uploads/sites/4/2024_CarSeatCheckUps_Calendar-1.jpg
ORGANIZER;CN="Teresa Taylor":MAILTO:teresa.taylor@stormontvail.org
END:VEVENT
BEGIN:VEVENT
DTSTART;TZID=America/Chicago:20241016T180000
DTEND;TZID=America/Chicago:20241016T201500
DTSTAMP:20260425T090901
CREATED:20240228T213523Z
LAST-MODIFIED:20240408T160552Z
UID:10002603-1729101600-1729109700@calendar.stormontvail.org
SUMMARY:Childbirth Preparation (October 16\, 23\, & 30)
DESCRIPTION:Our childbirth classes are taught by experienced educators and are designed to help you and your support person feel more prepared for your labor and delivery experience. Learn about the stages of labor\, pain management tools\, breathing and relaxation techniques\, how to involve your support person\, and more! Dress comfortably and feel free to bring a pillow to help you feel more comfortable during breathing and relaxation exercises. It is ideal for this class to be completed one month to six weeks prior to your due date. \nThis class will be held in the Stormont Vail Health Pozez Education Center. Please enter through the main entrance of Stormont Vail Health. \nNote: Enrollment includes expectant mother and one support person.  This class is a series event and will meet October 16th\, 23rd\, and 30th from 6 to 8:15 pm each night. \n\n\n\n 
URL:https://calendar.stormontvail.org/event/childbirth-preparation-october-16-23-30-in-person/
LOCATION:Stormont Vail Health Pozez Education Center\, 1500 SW 10th Ave\, Topeka\, KS\, 66604\, United States
CATEGORIES:Childbirth Preparation,Parenting & Pregnancy
ATTACH;FMTTYPE=image/jpeg:https://calendar.stormontvail.org/wp-content/uploads/sites/4/2021/09/06.16.21-Birthing-Class-Photos_90-scaled.jpg
ORGANIZER;CN="Laura Odom%2C RN%2C IBCLC":MAILTO:laodom@stormontvail.org
END:VEVENT
BEGIN:VEVENT
DTSTART;TZID=America/Chicago:20241020T133000
DTEND;TZID=America/Chicago:20241020T153000
DTSTAMP:20260425T090901
CREATED:20240905T153811Z
LAST-MODIFIED:20240905T153817Z
UID:10002645-1729431000-1729438200@calendar.stormontvail.org
SUMMARY:Breastfeeding Basics
DESCRIPTION:This introduction to breastfeeding will provide pregnant people and their families an opportunity to learn about breastfeeding before their baby is born. Classes are designed to help families prepare for the breastfeeding experience by providing information on how breastfeeding works\, how to get started\, problems that may arise and how to incorporate breastfeeding and working. \nThis class will be held in the Stormont Vail Health Auditorium. Please enter through the main entrance of Stormont Vail Health. \nNote: Enrollment includes expectant parent and one support person.
URL:https://calendar.stormontvail.org/event/breastfeeding-basics-5/
LOCATION:Stormont Vail Health Pozez Education Center\, 1500 SW 10th Ave\, Topeka\, KS\, 66604\, United States
CATEGORIES:Breastfeeding Basics,Parenting & Pregnancy
ATTACH;FMTTYPE=image/png:https://calendar.stormontvail.org/wp-content/uploads/sites/4/2021/04/Breastfeeding-Class-1.png
END:VEVENT
BEGIN:VEVENT
DTSTART;TZID=America/Chicago:20241027T133000
DTEND;TZID=America/Chicago:20241027T160000
DTSTAMP:20260425T090901
CREATED:20240410T195534Z
LAST-MODIFIED:20240410T195536Z
UID:10002626-1730035800-1730044800@calendar.stormontvail.org
SUMMARY:Welcome Baby Class
DESCRIPTION:This class is designed to provide up to date information about newborn care\, safe sleep\, car seat safety\, calming a fussy baby\, feedings\, and more.  Adjustments to parenthood as well as nurturing your relationship with your support person will also be covered in this class. Mothers are welcome to bring their support person\, family or a friend who provides support during their pregnancy and beyond.  Class will consist of a combination of presentation and hands on practice of techniques such as diapering and swaddling.  \nClass is held in the Pozez Education Center Auditorium at Stormont Vail Hospital.
URL:https://calendar.stormontvail.org/event/welcome-baby-class-13/
LOCATION:Stormont Vail Health Pozez Education Center\, 1500 SW 10th Ave\, Topeka\, KS\, 66604\, United States
CATEGORIES:Parenting & Pregnancy,Welcome Baby Jubilee
ATTACH;FMTTYPE=image/jpeg:https://calendar.stormontvail.org/wp-content/uploads/sites/4/2021/04/mother-baby_tb.jpg
ORGANIZER;CN="Laura Odom":MAILTO:laodom@stormontvail.org
END:VEVENT
END:VCALENDAR