BEGIN:VCALENDAR
VERSION:2.0
PRODID:-//Calendar &amp; Events - ECPv6.15.13//NONSGML v1.0//EN
CALSCALE:GREGORIAN
METHOD:PUBLISH
X-ORIGINAL-URL:https://calendar.stormontvail.org
X-WR-CALDESC:Events for Calendar &amp; Events
REFRESH-INTERVAL;VALUE=DURATION:PT1H
X-Robots-Tag:noindex
X-PUBLISHED-TTL:PT1H
BEGIN:VTIMEZONE
TZID:America/Chicago
BEGIN:DAYLIGHT
TZOFFSETFROM:-0600
TZOFFSETTO:-0500
TZNAME:CDT
DTSTART:20240310T080000
END:DAYLIGHT
BEGIN:STANDARD
TZOFFSETFROM:-0500
TZOFFSETTO:-0600
TZNAME:CST
DTSTART:20241103T070000
END:STANDARD
BEGIN:DAYLIGHT
TZOFFSETFROM:-0600
TZOFFSETTO:-0500
TZNAME:CDT
DTSTART:20250309T080000
END:DAYLIGHT
BEGIN:STANDARD
TZOFFSETFROM:-0500
TZOFFSETTO:-0600
TZNAME:CST
DTSTART:20251102T070000
END:STANDARD
BEGIN:DAYLIGHT
TZOFFSETFROM:-0600
TZOFFSETTO:-0500
TZNAME:CDT
DTSTART:20260308T080000
END:DAYLIGHT
BEGIN:STANDARD
TZOFFSETFROM:-0500
TZOFFSETTO:-0600
TZNAME:CST
DTSTART:20261101T070000
END:STANDARD
END:VTIMEZONE
BEGIN:VEVENT
DTSTART;TZID=America/Chicago:20250608T133000
DTEND;TZID=America/Chicago:20250608T160000
DTSTAMP:20260425T180640
CREATED:20241211T010536Z
LAST-MODIFIED:20250610T155107Z
UID:10002715-1749389400-1749398400@calendar.stormontvail.org
SUMMARY:Welcome Baby Class
DESCRIPTION:This class is designed to provide up to date information about newborn care\, safe sleep\, car seat safety\, calming a fussy baby\, feedings\, and more.  Adjustments to parenthood as well as nurturing your relationship with your support person will also be covered in this class. Mothers are welcome to bring their support person\, family or a friend who provides support during their pregnancy and beyond.  Class will consist of a combination of presentation and hands on practice of techniques such as diapering and swaddling.  \nClass is held in the Pozez Education Center Auditorium at Stormont Vail Hospital.
URL:https://calendar.stormontvail.org/event/welcome-baby-class-19/
LOCATION:Stormont Vail Health Pozez Education Center\, 1500 SW 10th Ave\, Topeka\, KS\, 66604\, United States
CATEGORIES:Parenting & Pregnancy,Welcome Baby Class,Welcome Baby Jubilee
ATTACH;FMTTYPE=image/jpeg:https://calendar.stormontvail.org/wp-content/uploads/sites/4/2021/04/mother-baby_tb.jpg
ORGANIZER;CN="Laura Odom":MAILTO:laodom@stormontvail.org
END:VEVENT
BEGIN:VEVENT
DTSTART;TZID=America/Chicago:20250614T090000
DTEND;TZID=America/Chicago:20250614T120000
DTSTAMP:20260425T180640
CREATED:20241211T025550Z
LAST-MODIFIED:20241211T025554Z
UID:10002732-1749891600-1749902400@calendar.stormontvail.org
SUMMARY:Girl to Woman
DESCRIPTION:  \nThe time in a girls life between the ages of 8-12 is one of physical and emotional changes. This program for girls and their parent will address menstruation and other physical changes of puberty\, the emotional upheaval of adolescence and communication techniques for parent and daughter. \n \nFee: $25 for each parent/child duo; $12.50 for each additional sibling. Payment is collected at class.Note: RSVP includes one parent/child duo. \n 
URL:https://calendar.stormontvail.org/event/girl-to-woman-13/
LOCATION:Stormont Vail Health Pozez Education Center\, 1500 SW 10th Ave\, Topeka\, KS\, 66604\, United States
CATEGORIES:Girl to Woman
ATTACH;FMTTYPE=image/png:https://calendar.stormontvail.org/wp-content/uploads/sites/4/2021/10/girl-to-woman_banner.png
END:VEVENT
BEGIN:VEVENT
DTSTART;TZID=America/Chicago:20250614T090000
DTEND;TZID=America/Chicago:20250614T120000
DTSTAMP:20260425T180640
CREATED:20241211T025731Z
LAST-MODIFIED:20241211T025734Z
UID:10002733-1749891600-1749902400@calendar.stormontvail.org
SUMMARY:Boy to Man
DESCRIPTION:Boys experience puberty also and while usually starting later than girls\, the time in a boys life between the ages of 10-13 is filled with many physical and emotional changes. These changes are exciting\, but also are often puzzling\, sometimes embarrassing\, and usually challenging to a young adolescent. Join us for a discussion that will focus on the physiological changes of puberty\, the developmental tasks of early adolescence and ways to improve communication between boys and their parents. This class features a time for boys and their parents to be together but also have time for facilitated discussion separately. \n\n\n\nFee: $25 for each parent/child duo; $12.50 for each additional sibling. Payment is collected at class.
URL:https://calendar.stormontvail.org/event/boy-to-man-7/
LOCATION:Stormont Vail Health Pozez Education Center\, 1500 SW 10th Ave\, Topeka\, KS\, 66604\, United States
CATEGORIES:Boy to Man
ATTACH;FMTTYPE=image/png:https://calendar.stormontvail.org/wp-content/uploads/sites/4/2021/10/boy-to-man_banner.png
ORGANIZER;CN="Ashley Seematter":MAILTO:aseematt@stormontvail.org
END:VEVENT
BEGIN:VEVENT
DTSTART;TZID=America/Chicago:20250614T090000
DTEND;TZID=America/Chicago:20250614T120000
DTSTAMP:20260425T180640
CREATED:20250420T181343Z
LAST-MODIFIED:20250610T160354Z
UID:10002794-1749891600-1749902400@calendar.stormontvail.org
SUMMARY:Car Seat Checkup Event
DESCRIPTION:Visit with a Certified Child Passenger Safety Technician. Learn how to install your child’s car seat or booster seat. Find out if it’s time for a change.
URL:https://calendar.stormontvail.org/event/car-seat-checkup-event-31/
LOCATION:YMCA\, 3635 SW Chelsea Drive\, Topeka\, Kansas
CATEGORIES:Car Seat Check-Up Event,Community Events & Classes,Parenting & Pregnancy
END:VEVENT
BEGIN:VEVENT
DTSTART;TZID=America/Chicago:20250622T133000
DTEND;TZID=America/Chicago:20250622T153000
DTSTAMP:20260425T180640
CREATED:20241211T022522Z
LAST-MODIFIED:20241211T022527Z
UID:10002724-1750599000-1750606200@calendar.stormontvail.org
SUMMARY:Breastfeeding Basics
DESCRIPTION:This introduction to breastfeeding will provide pregnant people and their families an opportunity to learn about breastfeeding before their baby is born. Classes are designed to help families prepare for the breastfeeding experience by providing information on how breastfeeding works\, how to get started\, problems that may arise and how to incorporate breastfeeding and working. \nThis class will be held in the Stormont Vail Health Education Center. Please enter through the main entrance of Stormont Vail Health. \nNote: Enrollment includes expectant parent and one support person.
URL:https://calendar.stormontvail.org/event/breastfeeding-basics-13/
LOCATION:Stormont Vail Health Pozez Education Center\, 1500 SW 10th Ave\, Topeka\, KS\, 66604\, United States
CATEGORIES:Breastfeeding Basics,Parenting & Pregnancy
ATTACH;FMTTYPE=image/png:https://calendar.stormontvail.org/wp-content/uploads/sites/4/2021/04/Breastfeeding-Class-1.png
END:VEVENT
END:VCALENDAR