BEGIN:VCALENDAR
VERSION:2.0
PRODID:-//Calendar &amp; Events - ECPv6.15.13//NONSGML v1.0//EN
CALSCALE:GREGORIAN
METHOD:PUBLISH
X-ORIGINAL-URL:https://calendar.stormontvail.org
X-WR-CALDESC:Events for Calendar &amp; Events
REFRESH-INTERVAL;VALUE=DURATION:PT1H
X-Robots-Tag:noindex
X-PUBLISHED-TTL:PT1H
BEGIN:VTIMEZONE
TZID:America/Chicago
BEGIN:DAYLIGHT
TZOFFSETFROM:-0600
TZOFFSETTO:-0500
TZNAME:CDT
DTSTART:20240310T080000
END:DAYLIGHT
BEGIN:STANDARD
TZOFFSETFROM:-0500
TZOFFSETTO:-0600
TZNAME:CST
DTSTART:20241103T070000
END:STANDARD
BEGIN:DAYLIGHT
TZOFFSETFROM:-0600
TZOFFSETTO:-0500
TZNAME:CDT
DTSTART:20250309T080000
END:DAYLIGHT
BEGIN:STANDARD
TZOFFSETFROM:-0500
TZOFFSETTO:-0600
TZNAME:CST
DTSTART:20251102T070000
END:STANDARD
BEGIN:DAYLIGHT
TZOFFSETFROM:-0600
TZOFFSETTO:-0500
TZNAME:CDT
DTSTART:20260308T080000
END:DAYLIGHT
BEGIN:STANDARD
TZOFFSETFROM:-0500
TZOFFSETTO:-0600
TZNAME:CST
DTSTART:20261101T070000
END:STANDARD
END:VTIMEZONE
BEGIN:VEVENT
DTSTART;TZID=America/Chicago:20251011T090000
DTEND;TZID=America/Chicago:20251011T120000
DTSTAMP:20260421T153817
CREATED:20250420T182029Z
LAST-MODIFIED:20250610T155926Z
UID:10002798-1760173200-1760184000@calendar.stormontvail.org
SUMMARY:Car Seat Checkup Event
DESCRIPTION:Visit with a Certified Child Passenger Safety Technician. Learn how to install your child’s car seat or booster seat. Find out if it’s time for a change.
URL:https://calendar.stormontvail.org/event/car-seat-checkup-event-35/
LOCATION:Mathes Early Learning Center\, 2032 N Kansas Ave\, Topeka\, Kansas
CATEGORIES:Car Seat Check-Up Event,Community Events & Classes,Parenting & Pregnancy
END:VEVENT
BEGIN:VEVENT
DTSTART;TZID=America/Chicago:20251019T133000
DTEND;TZID=America/Chicago:20251019T153000
DTSTAMP:20260421T153817
CREATED:20250407T205754Z
LAST-MODIFIED:20250717T153229Z
UID:10002774-1760880600-1760887800@calendar.stormontvail.org
SUMMARY:Breastfeeding Basics
DESCRIPTION:This introduction to breastfeeding will provide pregnant people and their families an opportunity to learn about breastfeeding before their baby is born. Classes are designed to help families prepare for the breastfeeding experience by providing information on how breastfeeding works\, how to get started\, problems that may arise and how to incorporate breastfeeding and working. \n\n\n\nThis class will be held in the Stormont Vail Health Education Center. Please enter through the main entrance of Stormont Vail Health. \n\n\n\nNote: Enrollment includes expectant parent and one support person
URL:https://calendar.stormontvail.org/event/breastfeeding-basics-16/
LOCATION:Stormont Vail Health Pozez Education Center\, 1500 SW 10th Ave\, Topeka\, KS\, 66604\, United States
CATEGORIES:Breastfeeding Basics
ATTACH;FMTTYPE=image/png:https://calendar.stormontvail.org/wp-content/uploads/sites/4/2021/04/Breastfeeding-Class-1.png
ORGANIZER;CN="Danielle Twemlow":MAILTO:danielle.twemlow@gmail.com
END:VEVENT
BEGIN:VEVENT
DTSTART;TZID=America/Chicago:20251026T133000
DTEND;TZID=America/Chicago:20251026T160000
DTSTAMP:20260421T153817
CREATED:20250407T210902Z
LAST-MODIFIED:20250610T154241Z
UID:10002776-1761485400-1761494400@calendar.stormontvail.org
SUMMARY:Welcome Baby
DESCRIPTION:This class is designed to provide up to date information about newborn care\, safe sleep\, car seat safety\, calming a fussy baby\, feedings\, and more.  Adjustments to parenthood as well as nurturing your relationship with your support person will also be covered in this class. Mothers are welcome to bring their support person\, family or a friend who provides support during their pregnancy and beyond.  Class will consist of a combination of presentation and hands on practice of techniques such as diapering and swaddling.  \n\n\n\nClass is held in the Pozez Education Center Auditorium at Stormont Vail Hospital.
URL:https://calendar.stormontvail.org/event/welcome-baby-3/
LOCATION:Stormont Vail Health Pozez Education Center\, 1500 SW 10th Ave\, Topeka\, KS\, 66604\, United States
CATEGORIES:Welcome Baby Class
ATTACH;FMTTYPE=image/jpeg:https://calendar.stormontvail.org/wp-content/uploads/sites/4/2021/04/mother-baby_tb.jpg
ORGANIZER;CN="Laura Odom%2C RN%2C IBCLC":MAILTO:laodom@stormontvail.org
END:VEVENT
END:VCALENDAR