BEGIN:VCALENDAR
VERSION:2.0
PRODID:-//Calendar &amp; Events - ECPv6.15.13//NONSGML v1.0//EN
CALSCALE:GREGORIAN
METHOD:PUBLISH
X-WR-CALNAME:Calendar &amp; Events
X-ORIGINAL-URL:https://calendar.stormontvail.org
X-WR-CALDESC:Events for Calendar &amp; Events
REFRESH-INTERVAL;VALUE=DURATION:PT1H
X-Robots-Tag:noindex
X-PUBLISHED-TTL:PT1H
BEGIN:VTIMEZONE
TZID:America/Chicago
BEGIN:DAYLIGHT
TZOFFSETFROM:-0600
TZOFFSETTO:-0500
TZNAME:CDT
DTSTART:20210314T080000
END:DAYLIGHT
BEGIN:STANDARD
TZOFFSETFROM:-0500
TZOFFSETTO:-0600
TZNAME:CST
DTSTART:20211107T070000
END:STANDARD
BEGIN:DAYLIGHT
TZOFFSETFROM:-0600
TZOFFSETTO:-0500
TZNAME:CDT
DTSTART:20220313T080000
END:DAYLIGHT
BEGIN:STANDARD
TZOFFSETFROM:-0500
TZOFFSETTO:-0600
TZNAME:CST
DTSTART:20221106T070000
END:STANDARD
BEGIN:DAYLIGHT
TZOFFSETFROM:-0600
TZOFFSETTO:-0500
TZNAME:CDT
DTSTART:20230312T080000
END:DAYLIGHT
BEGIN:STANDARD
TZOFFSETFROM:-0500
TZOFFSETTO:-0600
TZNAME:CST
DTSTART:20231105T070000
END:STANDARD
END:VTIMEZONE
BEGIN:VEVENT
DTSTART;TZID=America/Chicago:20221203T090000
DTEND;TZID=America/Chicago:20221203T130000
DTSTAMP:20260423T094701
CREATED:20220526T204914Z
LAST-MODIFIED:20220721T015348Z
UID:10000617-1670058000-1670072400@calendar.stormontvail.org
SUMMARY:Childbirth Preparation (December 3 & 4) In-Person
DESCRIPTION:Our childbirth classes are taught by experienced educators and are designed to help you and your support person feel more prepared for your labor and delivery experience. Learn about the stages of labor\, pain management tools\, breathing and relaxation techniques\, how to involve your support person\, and more! Dress comfortably and feel free to bring a pillow to help you feel more comfortable during breathing and relaxation exercises. It is ideal for this class to be completed one month to six weeks prior to your due date. \n \n\n\n\nThis class will be held in the Stormont Vail Health Pozez Education Center where couples will be socially distanced. Masks are required. Please enter through the main entrance of Stormont Vail Health. \nNote: Enrollment includes expectant mother and one support person.  This weekend class option will meet two days in a row (December 3rd and 4th) from 9 am to 1 pm each day to cover all content. \n\n\n\n\n 
URL:https://calendar.stormontvail.org/event/childbirth-preparation-december-3-4-in-person/
LOCATION:Stormont Vail Health Pozez Education Center\, 1500 SW 10th Ave\, Topeka\, KS\, 66604\, United States
CATEGORIES:Childbirth Preparation,Parenting & Pregnancy
ATTACH;FMTTYPE=image/jpeg:https://calendar.stormontvail.org/wp-content/uploads/sites/4/2021/04/child-birth_tb.jpg
ORGANIZER;CN="Danielle Twemlow":MAILTO:danielle.twemlow@gmail.com
END:VEVENT
BEGIN:VEVENT
DTSTART;TZID=America/Chicago:20221214T180000
DTEND;TZID=America/Chicago:20221214T203000
DTSTAMP:20260423T094701
CREATED:20220918T163420Z
LAST-MODIFIED:20221213T235101Z
UID:10000664-1671040800-1671049800@calendar.stormontvail.org
SUMMARY:Childbirth Preparation (December 14 & 21) Virtual
DESCRIPTION:Our childbirth classes are taught by experienced educators and are designed to help you and your support person feel more prepared for your labor and delivery experience. Learn about the stages of labor\, pain management tools\, breathing and relaxation techniques\, how to involve your support person\, and more! \nVirtual childbirth class will be an online meeting with experienced instructors to review information and answer questions. The class will consist of two sessions (December 14th and 21st) to cover all content. Instructors will communicate via email with a link to join the virtual meeting. \n\nChildbirth ClassHosted by Odom\, Laura \nhttps://stormontvail.webex.com/stormontvail/j.php?MTID=mf7d898c5ca5bbd9342de9a659acfdfa5Wednesday\, Dec 14\, 2022 6:00 pm | 2 hours 30 minutes | (UTC-06:00) Central Time (US & Canada)Occurs every Wednesday effective 12/14/2022 until 12/21/2022 from 6:00 PM to 8:30 PM\, (UTC-06:00) Central Time (US & Canada)Meeting number: 2487 258 2037Password: 2fGJNhPJ7s4 \nJoin by video systemDial 24872582037@stormontvail.webex.comYou can also dial 173.243.2.68 and enter your meeting number. \nJoin by phone+1-415-655-0002 United States Toll \nAccess code: 248 725 82037 \n\nNote: Enrollment includes one expectant mother and one support person.  \nResources users can download and keep for later use \nBreathing Techniques \nExample of a Simplified Birth Plan \nHospital Bag Checklist \nImagery & Relaxation Example \nPediatricians in Topeka \nReasons to Call the Pediatrician \nSafe Sleeping Environment \nSoothing a Crying Infant \nTouch Relaxation
URL:https://calendar.stormontvail.org/event/childbirth-preparation-december-14-21-virtual/
LOCATION:Online\, See event details for more information
CATEGORIES:Childbirth Preparation,Parenting & Pregnancy
ATTACH;FMTTYPE=image/jpeg:https://calendar.stormontvail.org/wp-content/uploads/sites/4/2021/03/WomensServices_virtualclass_1008x500.jpg
ORGANIZER;CN="Laura Odom%2C RN%2C IBCLC":MAILTO:laodom@stormontvail.org
END:VEVENT
END:VCALENDAR