BEGIN:VCALENDAR
VERSION:2.0
PRODID:-//Calendar &amp; Events - ECPv6.15.13//NONSGML v1.0//EN
CALSCALE:GREGORIAN
METHOD:PUBLISH
X-WR-CALNAME:Calendar &amp; Events
X-ORIGINAL-URL:https://calendar.stormontvail.org
X-WR-CALDESC:Events for Calendar &amp; Events
REFRESH-INTERVAL;VALUE=DURATION:PT1H
X-Robots-Tag:noindex
X-PUBLISHED-TTL:PT1H
BEGIN:VTIMEZONE
TZID:America/Chicago
BEGIN:DAYLIGHT
TZOFFSETFROM:-0600
TZOFFSETTO:-0500
TZNAME:CDT
DTSTART:20240310T080000
END:DAYLIGHT
BEGIN:STANDARD
TZOFFSETFROM:-0500
TZOFFSETTO:-0600
TZNAME:CST
DTSTART:20241103T070000
END:STANDARD
BEGIN:DAYLIGHT
TZOFFSETFROM:-0600
TZOFFSETTO:-0500
TZNAME:CDT
DTSTART:20250309T080000
END:DAYLIGHT
BEGIN:STANDARD
TZOFFSETFROM:-0500
TZOFFSETTO:-0600
TZNAME:CST
DTSTART:20251102T070000
END:STANDARD
BEGIN:DAYLIGHT
TZOFFSETFROM:-0600
TZOFFSETTO:-0500
TZNAME:CDT
DTSTART:20260308T080000
END:DAYLIGHT
BEGIN:STANDARD
TZOFFSETFROM:-0500
TZOFFSETTO:-0600
TZNAME:CST
DTSTART:20261101T070000
END:STANDARD
END:VTIMEZONE
BEGIN:VEVENT
DTSTART;TZID=America/Chicago:20250405T090000
DTEND;TZID=America/Chicago:20250405T120000
DTSTAMP:20260421T232241
CREATED:20241211T025431Z
LAST-MODIFIED:20241211T025435Z
UID:10002731-1743843600-1743854400@calendar.stormontvail.org
SUMMARY:Girl to Woman
DESCRIPTION:  \nThe time in a girls life between the ages of 8-12 is one of physical and emotional changes. This program for girls and their parent will address menstruation and other physical changes of puberty\, the emotional upheaval of adolescence and communication techniques for parent and daughter. \n \nFee: $25 for each parent/child duo; $12.50 for each additional sibling. Payment is collected at class.Note: RSVP includes one parent/child duo. \n 
URL:https://calendar.stormontvail.org/event/girl-to-woman-12/
LOCATION:Stormont Vail Health Pozez Education Center\, 1500 SW 10th Ave\, Topeka\, KS\, 66604\, United States
CATEGORIES:Girl to Woman
ATTACH;FMTTYPE=image/png:https://calendar.stormontvail.org/wp-content/uploads/sites/4/2021/10/girl-to-woman_banner.png
END:VEVENT
BEGIN:VEVENT
DTSTART;TZID=America/Chicago:20250406T140000
DTEND;TZID=America/Chicago:20250406T140000
DTSTAMP:20260421T232241
CREATED:20250324T203608Z
LAST-MODIFIED:20250324T203614Z
UID:10002752-1743948000-1743948000@calendar.stormontvail.org
SUMMARY:Sibling Class at the Welcome Baby Jubilee
DESCRIPTION:Big siblings to-be are invited to meet with our experienced educator during the Welcome Baby Jubilee! The group will meet at 3 pm. They will discuss what to expect when the new baby arrives\, take a tour of the Birthplace\, and make a craft for their new sibling. Questions? Email amycal527@gmail.com or call 785-354-5034.
URL:https://calendar.stormontvail.org/event/sibling-class-at-the-welcome-baby-jubilee/
LOCATION:Stormont Vail Health Pozez Education Center\, 1500 SW 10th Ave\, Topeka\, KS\, 66604\, United States
CATEGORIES:Community Events & Classes,Parenting & Pregnancy,Sibling Class Ages 3-6 Years,Sibling Class Ages 7 and up,Welcome Baby Jubilee
ATTACH;FMTTYPE=image/jpeg:https://calendar.stormontvail.org/wp-content/uploads/sites/4/siblings-e1742848459549.jpg
ORGANIZER;CN="Amy Calhoun":MAILTO:amycal527@gmail.com
END:VEVENT
END:VCALENDAR