BEGIN:VCALENDAR
VERSION:2.0
PRODID:-//Calendar &amp; Events - ECPv6.15.13//NONSGML v1.0//EN
CALSCALE:GREGORIAN
METHOD:PUBLISH
X-WR-CALNAME:Calendar &amp; Events
X-ORIGINAL-URL:https://calendar.stormontvail.org
X-WR-CALDESC:Events for Calendar &amp; Events
REFRESH-INTERVAL;VALUE=DURATION:PT1H
X-Robots-Tag:noindex
X-PUBLISHED-TTL:PT1H
BEGIN:VTIMEZONE
TZID:America/Chicago
BEGIN:DAYLIGHT
TZOFFSETFROM:-0600
TZOFFSETTO:-0500
TZNAME:CDT
DTSTART:20250309T080000
END:DAYLIGHT
BEGIN:STANDARD
TZOFFSETFROM:-0500
TZOFFSETTO:-0600
TZNAME:CST
DTSTART:20251102T070000
END:STANDARD
BEGIN:DAYLIGHT
TZOFFSETFROM:-0600
TZOFFSETTO:-0500
TZNAME:CDT
DTSTART:20260308T080000
END:DAYLIGHT
BEGIN:STANDARD
TZOFFSETFROM:-0500
TZOFFSETTO:-0600
TZNAME:CST
DTSTART:20261101T070000
END:STANDARD
BEGIN:DAYLIGHT
TZOFFSETFROM:-0600
TZOFFSETTO:-0500
TZNAME:CDT
DTSTART:20270314T080000
END:DAYLIGHT
BEGIN:STANDARD
TZOFFSETFROM:-0500
TZOFFSETTO:-0600
TZNAME:CST
DTSTART:20271107T070000
END:STANDARD
END:VTIMEZONE
BEGIN:VEVENT
DTSTART;TZID=America/Chicago:20260307T090000
DTEND;TZID=America/Chicago:20260307T100000
DTSTAMP:20260421T090909
CREATED:20260302T213717Z
LAST-MODIFIED:20260302T213720Z
UID:10002927-1772874000-1772877600@calendar.stormontvail.org
SUMMARY:Walk With an APP – Junction City | March 2026
DESCRIPTION:Walk a mile with APP Chandra Schwab and learn about wound care\, healing\, and staying active this spring. \n\n\n\nThis APP-led group is a fun and safe place to go for a walk\, hear briefly about an important health topic\, and enjoy a walk with an APP.  \n\n\n\nThe event is FREE and all are welcome!  \n\n\n\nAsk your provider about upcoming walks! \n\n\n\n*The walk will be outside. If it rains or is too cold\, we will move the walk inside.
URL:https://calendar.stormontvail.org/event/walk-with-an-app-junction-city-march-2026/
LOCATION:Old Junction City High School Football Field\, 900 N. Eisenhower Dr.\, Junction City\, Kansas\, 66441\, United States
ATTACH;FMTTYPE=image/jpeg:https://calendar.stormontvail.org/wp-content/uploads/sites/4/2026.3.7-WWAD-Calendar-Schwab.jpg
ORGANIZER;CN="Savanna Gaumer":MAILTO:Savanna.Gaumer@stormontvail.org
END:VEVENT
BEGIN:VEVENT
DTSTART;TZID=America/Chicago:20260307T090000
DTEND;TZID=America/Chicago:20260307T130000
DTSTAMP:20260421T090909
CREATED:20251028T162112Z
LAST-MODIFIED:20251028T162116Z
UID:10002864-1772874000-1772888400@calendar.stormontvail.org
SUMMARY:Childbirth Preparation (March 7th & 8th)
DESCRIPTION:Our childbirth classes are taught by experienced educators and are designed to help you and your support person feel more prepared for your labor and delivery experience. Learn about the stages of labor\, pain management tools\, breathing and relaxation techniques\, how to involve your support person\, and more! Dress comfortably and feel free to bring a pillow to help you feel more comfortable during breathing and relaxation exercises. It is ideal for this class to be completed one month to six weeks prior to your due date. \n\n\n\nThis class will be held in the Stormont Vail Health Pozez Education Center. Please enter through the main entrance of Stormont Vail Health. \n\n\n\nNote: Enrollment includes expectant mother and one support person.  This weekend class option will meet two days in a row (March 7th & 8th) from 9 am to 1 pm each day to cover all content.
URL:https://calendar.stormontvail.org/event/childbirth-preparation-march-7th-8th/
LOCATION:Stormont Vail Health Pozez Education Center\, 1500 SW 10th Ave\, Topeka\, KS\, 66604\, United States
ATTACH;FMTTYPE=image/jpeg:https://calendar.stormontvail.org/wp-content/uploads/sites/4/2022/04/child-birth_tb-340x180-1.jpg
ORGANIZER;CN="Danielle Twemlow":MAILTO:danielle.twemlow@gmail.com
END:VEVENT
BEGIN:VEVENT
DTSTART;TZID=America/Chicago:20260308T133000
DTEND;TZID=America/Chicago:20260308T153000
DTSTAMP:20260421T090909
CREATED:20251028T203113Z
LAST-MODIFIED:20251028T203118Z
UID:10002875-1772976600-1772983800@calendar.stormontvail.org
SUMMARY:Breastfeeding Basics
DESCRIPTION:This introduction to breastfeeding will provide pregnant people and their families an opportunity to learn about breastfeeding before their baby is born. Classes are designed to help families prepare for the breastfeeding experience by providing information on how breastfeeding works\, how to get started\, problems that may arise and how to incorporate breastfeeding and working. \n\n\n\nThis class will be held in the Stormont Vail Health Education Center. Please enter through the main entrance of Stormont Vail Health. \n\n\n\nNote: Enrollment includes expectant parent and one support person
URL:https://calendar.stormontvail.org/event/breastfeeding-basics-19/
LOCATION:Stormont Vail Health Pozez Education Center\, 1500 SW 10th Ave\, Topeka\, KS\, 66604\, United States
CATEGORIES:Breastfeeding Basics,Childbirth Preparation,Parenting & Pregnancy
ATTACH;FMTTYPE=image/png:https://calendar.stormontvail.org/wp-content/uploads/sites/4/2021/04/Breastfeeding-Class-1.png
ORGANIZER;CN="Danielle Twemlow":MAILTO:danielle.twemlow@gmail.com
END:VEVENT
BEGIN:VEVENT
DTSTART;TZID=America/Chicago:20260310T120000
DTEND;TZID=America/Chicago:20260310T130000
DTSTAMP:20260421T090909
CREATED:20260106T165349Z
LAST-MODIFIED:20260106T165352Z
UID:10002905-1773144000-1773147600@calendar.stormontvail.org
SUMMARY:2026 Stormont Vail Grand Rounds - Adult ADHD
DESCRIPTION:Grand Rounds are offered in person at Stormont Vail Hospital – Topeka Campus are virtually via Zoom platform. Navigate to stormontvail.eeds.com for details and zoom links.  \n\n\n\nPresentations and Speakers: \n\n\n\nAbby Callis\, PsyD – Stormont Vail Health
URL:https://calendar.stormontvail.org/event/2026-stormont-vail-grand-rounds-adult-adhd/
LOCATION:Stormont Vail Hospital – Centennial A\, 1500 SW 10th Ave\, Topeka\, Kansas\, 66604\, United States
END:VEVENT
BEGIN:VEVENT
DTSTART;TZID=America/Chicago:20260314T090000
DTEND;TZID=America/Chicago:20260314T120000
DTSTAMP:20260421T090909
CREATED:20260114T190240Z
LAST-MODIFIED:20260114T190244Z
UID:10002910-1773478800-1773489600@calendar.stormontvail.org
SUMMARY:Car Seat Checkup Event
DESCRIPTION:Visit with a Certified Child Passenger Safety Technician. Learn how to install your child’s car seat or booster seat. Find out if it’s time for a change.
URL:https://calendar.stormontvail.org/event/car-seat-checkup-event-39/
LOCATION:Sheldon Head Start\, 1155 SW Seabrook Ave\, Topeka\, Kansas\, United States
CATEGORIES:Car Seat Check-Up Event,Community Events & Classes
END:VEVENT
BEGIN:VEVENT
DTSTART;TZID=America/Chicago:20260321T090000
DTEND;TZID=America/Chicago:20260321T100000
DTSTAMP:20260421T090909
CREATED:20251218T214811Z
LAST-MODIFIED:20251230T153237Z
UID:10002888-1774083600-1774087200@calendar.stormontvail.org
SUMMARY:STOP THE BLEED
DESCRIPTION:Minutes count! Someone who is severely bleeding can bleed to death in as little as 5 minutes. That’s why bleeding control—keeping the blood inside the body—is the purpose of STOP THE BLEED® training. \n\n\n\nThe person next to a bleeding victim may very well be the one who’s most likely to save him or her from bleeding to death. By learning how to STOP THE BLEED®\, you’ll gain the ability to recognize life-threatening bleeding and act quickly and effectively to control bleeding once you learn three quick techniques. Take the STOP THE BLEED® training course and become empowered to make a life or death difference when a bleeding emergency happens.
URL:https://calendar.stormontvail.org/event/stop-the-bleed-mar26/
LOCATION:Stormont Vail Hospital – Centennial A\, 1500 SW 10th Ave\, Topeka\, Kansas\, 66604\, United States
CATEGORIES:Community Events & Classes,Stop the Bleed
ATTACH;FMTTYPE=image/png:https://calendar.stormontvail.org/wp-content/uploads/sites/4/2021/11/Stop-the-Bleed-logo.png
ORGANIZER;CN="Brian Aeschliman":MAILTO:brian.aeschliman@stormontvail.org
END:VEVENT
BEGIN:VEVENT
DTSTART;TZID=America/Chicago:20260321T090000
DTEND;TZID=America/Chicago:20260321T100000
DTSTAMP:20260421T090909
CREATED:20260311T160157Z
LAST-MODIFIED:20260311T160229Z
UID:10002929-1774083600-1774087200@calendar.stormontvail.org
SUMMARY:Walk With A Doc (Topeka): March 2026
DESCRIPTION:Let’s Talk Colorectal Health\, One Step at a Time\n\n\n\n“Does stress increase my risk of colorectal cancer?” \n\n\n\n“When do I actually need to get screened?” \n\n\n\n“Does family history really matter?” \n\n\n\nGet answers to these questions (and more) at our next Walk With A Doc\, featuring Dr. Brent Roeder\, gastroenterology specialist. \n\n\n\n🕘 9 to 10 a.m. \n\n\n\n👟 Saturday\, March 21\, 2026 \n\n\n\n📍 Washburn University Lee Arena \n\n\n\nMarch is National Colorectal Cancer Awareness Month\, a reminder that awareness and early screening matter\, especially as cases continue to rise in adults under 55. \n\n\n\nThis free\, one-hour walk is open to all fitness levels and designed for conversation as much as movement. \n\n\n\nWear comfortable shoes\, bring a friend\, and come ready with your questions!
URL:https://calendar.stormontvail.org/event/walk-with-a-doc-topeka-march-2026/
LOCATION:Washburn University – Lee Arena\, 901 SW Mulvane St\, Topeka\, Kansas\, 66621\, United States
CATEGORIES:Community Events & Classes
ATTACH;FMTTYPE=image/jpeg:https://calendar.stormontvail.org/wp-content/uploads/sites/4/2026.3.21-WWAD-SVNews-Roeder.jpg
END:VEVENT
BEGIN:VEVENT
DTSTART;TZID=America/Chicago:20260327T080000
DTEND;TZID=America/Chicago:20260327T150000
DTSTAMP:20260421T090909
CREATED:20260205T205612Z
LAST-MODIFIED:20260205T205617Z
UID:10002923-1774598400-1774623600@calendar.stormontvail.org
SUMMARY:2026 Stormont Vail Health Bi‑State Stroke Consortium Symposium
DESCRIPTION:Bridging Stroke Management Care Across the Continuum\n\n\n\nAdvance stroke care with the latest evidence\, real patient perspectives\, and teamwork across disciplines. Discover new approaches in diagnostics\, support families through recovery\, and address the mental health factors that shape outcomes. \n\n\n\nRegister by March 24: stormontvail.eeds.com
URL:https://calendar.stormontvail.org/event/2026-stormont-vail-health-bi-state-stroke-consortium-symposium/
LOCATION:Stormont Vail Hospital\, 1500 S.W. 10th Ave.\, Topeka\, Kansas\, 66604\, United States
ATTACH;FMTTYPE=image/jpeg:https://calendar.stormontvail.org/wp-content/uploads/sites/4/2026-SVH-Bi-State-Stroke-Consortium_SVorg-Calendar.jpg
END:VEVENT
BEGIN:VEVENT
DTSTART;TZID=America/Chicago:20260329T133000
DTEND;TZID=America/Chicago:20260329T160000
DTSTAMP:20260421T090909
CREATED:20251028T202007Z
LAST-MODIFIED:20251028T202012Z
UID:10002871-1774791000-1774800000@calendar.stormontvail.org
SUMMARY:Welcome Baby
DESCRIPTION:This class is designed to provide up to date information about newborn care\, safe sleep\, car seat safety\, calming a fussy baby\, feedings\, and more.  Adjustments to parenthood as well as nurturing your relationship with your support person will also be covered in this class. Mothers are welcome to bring their support person\, family or a friend who provides support during their pregnancy and beyond.  Class will consist of a combination of presentation and hands on practice of techniques such as diapering and swaddling.  \n\n\n\nClass is held in the Pozez Education Center Auditorium at Stormont Vail Hospital.
URL:https://calendar.stormontvail.org/event/welcome-baby-7/
LOCATION:Stormont Vail Health Pozez Education Center\, 1500 SW 10th Ave\, Topeka\, KS\, 66604\, United States
CATEGORIES:Welcome Baby Class
ATTACH;FMTTYPE=image/jpeg:https://calendar.stormontvail.org/wp-content/uploads/sites/4/2021/04/mother-baby_tb.jpg
ORGANIZER;CN="Laura Odom%2C RN%2C IBCLC":MAILTO:laodom@stormontvail.org
END:VEVENT
END:VCALENDAR