BEGIN:VCALENDAR
VERSION:2.0
PRODID:-//Calendar &amp; Events - ECPv6.15.13//NONSGML v1.0//EN
CALSCALE:GREGORIAN
METHOD:PUBLISH
X-ORIGINAL-URL:https://calendar.stormontvail.org
X-WR-CALDESC:Events for Calendar &amp; Events
REFRESH-INTERVAL;VALUE=DURATION:PT1H
X-Robots-Tag:noindex
X-PUBLISHED-TTL:PT1H
BEGIN:VTIMEZONE
TZID:America/Chicago
BEGIN:DAYLIGHT
TZOFFSETFROM:-0600
TZOFFSETTO:-0500
TZNAME:CDT
DTSTART:20240310T080000
END:DAYLIGHT
BEGIN:STANDARD
TZOFFSETFROM:-0500
TZOFFSETTO:-0600
TZNAME:CST
DTSTART:20241103T070000
END:STANDARD
BEGIN:DAYLIGHT
TZOFFSETFROM:-0600
TZOFFSETTO:-0500
TZNAME:CDT
DTSTART:20250309T080000
END:DAYLIGHT
BEGIN:STANDARD
TZOFFSETFROM:-0500
TZOFFSETTO:-0600
TZNAME:CST
DTSTART:20251102T070000
END:STANDARD
BEGIN:DAYLIGHT
TZOFFSETFROM:-0600
TZOFFSETTO:-0500
TZNAME:CDT
DTSTART:20260308T080000
END:DAYLIGHT
BEGIN:STANDARD
TZOFFSETFROM:-0500
TZOFFSETTO:-0600
TZNAME:CST
DTSTART:20261101T070000
END:STANDARD
END:VTIMEZONE
BEGIN:VEVENT
DTSTART;TZID=America/Chicago:20250115T180000
DTEND;TZID=America/Chicago:20250115T193000
DTSTAMP:20260422T005016
CREATED:20240905T162103Z
LAST-MODIFIED:20250114T161654Z
UID:10002648-1736964000-1736969400@calendar.stormontvail.org
SUMMARY:Online Childbirth Preparation (January 8\, 15\, & 22)
DESCRIPTION:Our childbirth classes are taught by experienced educators and are designed to help you and your support person feel more prepared for your labor and delivery experience. Learn about the stages of labor\, pain management tools\, breathing and relaxation techniques\, how to involve your support person\, and more! \nOnline childbirth class will be an online meeting with experienced instructors to review information and answer questions. The class will consist of three sessions (January 8th\, 15th\, & 22nd) to cover all content.\n\nUpdate: The link below will be your access to the 2nd and 3rd class sessions. Email laodom@stormontvail.org if you have questions.  \nMeeting linkhttps://stormontvail.webex.com/stormontvail/j.php?MTID=meddff15f24758c667b67d641eb41bc2e \nMeeting number2483 224 1295 \nMeeting passwordpsDTa3MTx83 \nHost key550828 \nJoin by video system24832241295@stormontvail.webex.com \n\n \nNote: Enrollment includes one expectant mother and one support person.  \nResources users can download and keep for later use \nBreathing Techniques \nExample of a Simplified Birth Plan \nHospital Bag Checklist \nImagery & Relaxation Example \nTouch Relaxation
URL:https://calendar.stormontvail.org/event/online-childbirth-preparation-january-8-15-22/
LOCATION:Online\, See event details for more information
CATEGORIES:Childbirth Preparation,Parenting & Pregnancy
ATTACH;FMTTYPE=image/jpeg:https://calendar.stormontvail.org/wp-content/uploads/sites/4/2021/03/WomensServices_virtualclass_1008x500.jpg
ORGANIZER;CN="Laura Odom%2C RN%2C IBCLC":MAILTO:laodom@stormontvail.org
END:VEVENT
BEGIN:VEVENT
DTSTART;TZID=America/Chicago:20250118T090000
DTEND;TZID=America/Chicago:20250118T130000
DTSTAMP:20260422T005016
CREATED:20250117T215209Z
LAST-MODIFIED:20250117T215213Z
UID:10002740-1737190800-1737205200@calendar.stormontvail.org
SUMMARY:Childbirth Preparation (Jan 18th & 19th)
DESCRIPTION:Motherhood\, and parenting. Mother kissing her sleeping baby boy on cheek.\n\n\nOur childbirth classes are taught by experienced educators and are designed to help you and your support person feel more prepared for your labor and delivery experience. Learn about the stages of labor\, pain management tools\, breathing and relaxation techniques\, how to involve your support person\, and more! Dress comfortably and feel free to bring a pillow to help you feel more comfortable during breathing and relaxation exercises. It is ideal for this class to be completed one month to six weeks prior to your due date. \n\n\n\n\nThis class will be held in the Stormont Vail Health Pozez Education Center. Please enter through the main entrance of Stormont Vail Health. \nNote: Enrollment includes expectant mother and one support person.  This weekend class option will meet two days in a row (Jan. 18th & 19th) from 9 am to 1 pm each day to cover all content. \n\n\n\n 
URL:https://calendar.stormontvail.org/event/childbirth-preparation-jan-18th-19th/
LOCATION:Stormont Vail Health Pozez Education Center\, 1500 SW 10th Ave\, Topeka\, KS\, 66604\, United States
CATEGORIES:Childbirth Preparation,Parenting & Pregnancy
ATTACH;FMTTYPE=image/jpeg:https://calendar.stormontvail.org/wp-content/uploads/sites/4/2021/04/child-birth_tb.jpg
ORGANIZER;CN="Danielle Twemlow":MAILTO:danielle.twemlow@gmail.com
END:VEVENT
END:VCALENDAR