BEGIN:VCALENDAR
VERSION:2.0
PRODID:-//Calendar &amp; Events - ECPv6.15.13//NONSGML v1.0//EN
CALSCALE:GREGORIAN
METHOD:PUBLISH
X-ORIGINAL-URL:https://calendar.stormontvail.org
X-WR-CALDESC:Events for Calendar &amp; Events
REFRESH-INTERVAL;VALUE=DURATION:PT1H
X-Robots-Tag:noindex
X-PUBLISHED-TTL:PT1H
BEGIN:VTIMEZONE
TZID:America/Chicago
BEGIN:DAYLIGHT
TZOFFSETFROM:-0600
TZOFFSETTO:-0500
TZNAME:CDT
DTSTART:20250309T080000
END:DAYLIGHT
BEGIN:STANDARD
TZOFFSETFROM:-0500
TZOFFSETTO:-0600
TZNAME:CST
DTSTART:20251102T070000
END:STANDARD
BEGIN:DAYLIGHT
TZOFFSETFROM:-0600
TZOFFSETTO:-0500
TZNAME:CDT
DTSTART:20260308T080000
END:DAYLIGHT
BEGIN:STANDARD
TZOFFSETFROM:-0500
TZOFFSETTO:-0600
TZNAME:CST
DTSTART:20261101T070000
END:STANDARD
BEGIN:DAYLIGHT
TZOFFSETFROM:-0600
TZOFFSETTO:-0500
TZNAME:CDT
DTSTART:20270314T080000
END:DAYLIGHT
BEGIN:STANDARD
TZOFFSETFROM:-0500
TZOFFSETTO:-0600
TZNAME:CST
DTSTART:20271107T070000
END:STANDARD
END:VTIMEZONE
BEGIN:VEVENT
DTSTART;TZID=America/Chicago:20260426T133000
DTEND;TZID=America/Chicago:20260426T160000
DTSTAMP:20260424T123336
CREATED:20251028T202110Z
LAST-MODIFIED:20260415T135424Z
UID:10002872-1777210200-1777219200@calendar.stormontvail.org
SUMMARY:Welcome Baby
DESCRIPTION:This class is designed to provide up to date information about newborn care\, safe sleep\, car seat safety\, calming a fussy baby\, feedings\, and more.  Adjustments to parenthood as well as nurturing your relationship with your support person will also be covered in this class. Mothers are welcome to bring their support person\, family or a friend who provides support during their pregnancy and beyond.  Class will consist of a combination of presentation and hands on practice of techniques such as diapering and swaddling.  \n\n\n\nClass is held in the Pozez Education Center Auditorium at Stormont Vail Hospital.
URL:https://calendar.stormontvail.org/event/welcome-baby-8/
LOCATION:Stormont Vail Health Pozez Education Center\, 1500 SW 10th Ave\, Topeka\, KS\, 66604\, United States
CATEGORIES:Welcome Baby Class
ATTACH;FMTTYPE=image/jpeg:https://calendar.stormontvail.org/wp-content/uploads/sites/4/2021/04/mother-baby_tb.jpg
ORGANIZER;CN="Laura Odom%2C RN%2C IBCLC":MAILTO:laodom@stormontvail.org
END:VEVENT
BEGIN:VEVENT
DTSTART;TZID=America/Chicago:20260513T180000
DTEND;TZID=America/Chicago:20260513T193000
DTSTAMP:20260424T123336
CREATED:20251028T171056Z
LAST-MODIFIED:20260401T152158Z
UID:10002868-1778695200-1778700600@calendar.stormontvail.org
SUMMARY:Online Childbirth Preparation (May 13\, 20\, & 27)
DESCRIPTION:Our childbirth classes are taught by experienced educators and are designed to help you and your support person feel more prepared for your labor and delivery experience. Learn about the stages of labor\, pain management tools\, breathing and relaxation techniques\, how to involve your support person\, and more! \n\n\n\nOnline childbirth class will be an online meeting with experienced instructors to review information and answer questions. The class will consist of three sessions (May 13th\, 20th\, & 27th) to cover all content. Instructors will communicate via email with a Webex link to join the virtual meeting within one week of the first class.  \n\n\n\nNote: Enrollment includes one expectant mother and one support person.  \n\n\n\nResources users can download and keep for later use \n\n\n\nBreathing Techniques \n\n\n\nExample of a Simplified Birth Plan \n\n\n\nHospital Bag Checklist \n\n\n\nImagery & Relaxation Example \n\n\n\nTouch Relaxation
URL:https://calendar.stormontvail.org/event/online-childbirth-preparation-may-13-20-27/
ORGANIZER;CN="Laura Odom%2C RN%2C IBCLC":MAILTO:laodom@stormontvail.org
END:VEVENT
BEGIN:VEVENT
DTSTART;TZID=America/Chicago:20260603T180000
DTEND;TZID=America/Chicago:20260603T201500
DTSTAMP:20260424T123336
CREATED:20260331T212948Z
LAST-MODIFIED:20260401T152244Z
UID:10002932-1780509600-1780517700@calendar.stormontvail.org
SUMMARY:Childbirth Preparation (June 3\, 10\, & 17)
DESCRIPTION:Our childbirth classes are taught by experienced educators and are designed to help you and your support person feel more prepared for your labor and delivery experience. Learn about the stages of labor\, pain management tools\, breathing and relaxation techniques\, how to involve your support person\, and more! Dress comfortably and feel free to bring a pillow to help you feel more comfortable during breathing and relaxation exercises. It is ideal for this class to be completed one month to six weeks prior to your due date. \n\n\n\nThis class will be held in the Stormont Vail Health Pozez Education Center. Please enter through the main entrance of Stormont Vail Health. \n\n\n\nNote: Enrollment includes expectant mother and one support person.  This class is a series event and will meet June 3rd\, 10th\, and 17th from 6 to 8:15 pm each night.
URL:https://calendar.stormontvail.org/event/childbirth-preparation-june-3-10-17/
LOCATION:Stormont Vail Health Pozez Education Center\, 1500 SW 10th Ave\, Topeka\, KS\, 66604\, United States
ORGANIZER;CN="Laura Odom%2C RN%2C IBCLC":MAILTO:laodom@stormontvail.org
END:VEVENT
BEGIN:VEVENT
DTSTART;TZID=America/Chicago:20260607T133000
DTEND;TZID=America/Chicago:20260607T160000
DTSTAMP:20260424T123336
CREATED:20251028T202226Z
LAST-MODIFIED:20251028T202231Z
UID:10002873-1780839000-1780848000@calendar.stormontvail.org
SUMMARY:Welcome Baby
DESCRIPTION:This class is designed to provide up to date information about newborn care\, safe sleep\, car seat safety\, calming a fussy baby\, feedings\, and more.  Adjustments to parenthood as well as nurturing your relationship with your support person will also be covered in this class. Mothers are welcome to bring their support person\, family or a friend who provides support during their pregnancy and beyond.  Class will consist of a combination of presentation and hands on practice of techniques such as diapering and swaddling.  \n\n\n\nClass is held in the Pozez Education Center Auditorium at Stormont Vail Hospital.
URL:https://calendar.stormontvail.org/event/welcome-baby-9/
LOCATION:Stormont Vail Health Pozez Education Center\, 1500 SW 10th Ave\, Topeka\, KS\, 66604\, United States
CATEGORIES:Welcome Baby Class
ATTACH;FMTTYPE=image/jpeg:https://calendar.stormontvail.org/wp-content/uploads/sites/4/2021/04/mother-baby_tb.jpg
ORGANIZER;CN="Laura Odom%2C RN%2C IBCLC":MAILTO:laodom@stormontvail.org
END:VEVENT
BEGIN:VEVENT
DTSTART;TZID=America/Chicago:20260708T180000
DTEND;TZID=America/Chicago:20260708T193000
DTSTAMP:20260424T123336
CREATED:20260331T213811Z
LAST-MODIFIED:20260401T152038Z
UID:10002933-1783533600-1783539000@calendar.stormontvail.org
SUMMARY:Online Childbirth Preparation (July 8\, 15\, & 22)
DESCRIPTION:Our childbirth classes are taught by experienced educators and are designed to help you and your support person feel more prepared for your labor and delivery experience. Learn about the stages of labor\, pain management tools\, breathing and relaxation techniques\, how to involve your support person\, and more! \n\n\n\nOnline childbirth class will be an online meeting with experienced instructors to review information and answer questions. The class will consist of three sessions (July 8th\, 15th\, and 22nd) to cover all content. Instructors will communicate via email with a Webex link to join the virtual meeting within one week of the first class.  \n\n\n\nNote: Enrollment includes one expectant mother and one support person.  \n\n\n\nResources users can download and keep for later use \n\n\n\nBreathing Techniques \n\n\n\nExample of a Simplified Birth Plan \n\n\n\nHospital Bag Checklist \n\n\n\nImagery & Relaxation Example \n\n\n\nTouch Relaxation
URL:https://calendar.stormontvail.org/event/online-childbirth-preparation-july-8-15-22/
ORGANIZER;CN="Laura Odom%2C RN%2C IBCLC":MAILTO:laodom@stormontvail.org
END:VEVENT
BEGIN:VEVENT
DTSTART;TZID=America/Chicago:20260812T180000
DTEND;TZID=America/Chicago:20260812T201500
DTSTAMP:20260424T123336
CREATED:20260331T213937Z
LAST-MODIFIED:20260401T152721Z
UID:10002934-1786557600-1786565700@calendar.stormontvail.org
SUMMARY:Childbirth Preparation (August 12\, 19\, & 26)
DESCRIPTION:Our childbirth classes are taught by experienced educators and are designed to help you and your support person feel more prepared for your labor and delivery experience. Learn about the stages of labor\, pain management tools\, breathing and relaxation techniques\, how to involve your support person\, and more! Dress comfortably and feel free to bring a pillow to help you feel more comfortable during breathing and relaxation exercises. It is ideal for this class to be completed one month to six weeks prior to your due date. \n\n\n\nThis class will be held in the Stormont Vail Health Pozez Education Center. Please enter through the main entrance of Stormont Vail Health. \n\n\n\nNote: Enrollment includes expectant mother and one support person.  This class is a series event and will meet August 12th\, 19th\, and 26th from 6 to 8:15 pm each night.
URL:https://calendar.stormontvail.org/event/childbirth-preparation-august-12-19-26/
LOCATION:Stormont Vail Health Pozez Education Center\, 1500 SW 10th Ave\, Topeka\, KS\, 66604\, United States
ORGANIZER;CN="Laura Odom%2C RN%2C IBCLC":MAILTO:laodom@stormontvail.org
END:VEVENT
BEGIN:VEVENT
DTSTART;TZID=America/Chicago:20260830T133000
DTEND;TZID=America/Chicago:20260830T160000
DTSTAMP:20260424T123336
CREATED:20260423T204821Z
LAST-MODIFIED:20260423T204937Z
UID:10002952-1788096600-1788105600@calendar.stormontvail.org
SUMMARY:Welcome Baby
DESCRIPTION:This class is designed to provide up to date information about newborn care\, safe sleep\, car seat safety\, calming a fussy baby\, feedings\, and more.  Adjustments to parenthood as well as nurturing your relationship with your support person will also be covered in this class. Mothers are welcome to bring their support person\, family or a friend who provides support during their pregnancy and beyond.  Class will consist of a combination of presentation and hands on practice of techniques such as diapering and swaddling.  \n\n\n\nClass is held in the Pozez Education Center Auditorium at Stormont Vail Hospital.
URL:https://calendar.stormontvail.org/event/welcome-baby-10/
LOCATION:Stormont Vail Health Pozez Education Center\, 1500 SW 10th Ave\, Topeka\, KS\, 66604\, United States
CATEGORIES:Welcome Baby Class
ATTACH;FMTTYPE=image/jpeg:https://calendar.stormontvail.org/wp-content/uploads/sites/4/2021/04/mother-baby_tb.jpg
ORGANIZER;CN="Laura Odom%2C RN%2C IBCLC":MAILTO:laodom@stormontvail.org
END:VEVENT
BEGIN:VEVENT
DTSTART;TZID=America/Chicago:20260909T180000
DTEND;TZID=America/Chicago:20260909T193000
DTSTAMP:20260424T123336
CREATED:20260331T214054Z
LAST-MODIFIED:20260401T152632Z
UID:10002935-1788976800-1788982200@calendar.stormontvail.org
SUMMARY:Online Childbirth Preparation (Sept 9\, 16\, & 23)
DESCRIPTION:Our childbirth classes are taught by experienced educators and are designed to help you and your support person feel more prepared for your labor and delivery experience. Learn about the stages of labor\, pain management tools\, breathing and relaxation techniques\, how to involve your support person\, and more! \n\n\n\nOnline childbirth class will be an online meeting with experienced instructors to review information and answer questions. The class will consist of three sessions (September 9th\, 16th\, & 23rd) to cover all content. Instructors will communicate via email with a Webex link to join the virtual meeting within one week of the first class.  \n\n\n\nNote: Enrollment includes one expectant mother and one support person.  \n\n\n\nResources users can download and keep for later use \n\n\n\nBreathing Techniques \n\n\n\nExample of a Simplified Birth Plan \n\n\n\nHospital Bag Checklist \n\n\n\nImagery & Relaxation Example \n\n\n\nTouch Relaxation
URL:https://calendar.stormontvail.org/event/online-childbirth-preparation-sept-9-16-23/
ORGANIZER;CN="Laura Odom%2C RN%2C IBCLC":MAILTO:laodom@stormontvail.org
END:VEVENT
BEGIN:VEVENT
DTSTART;TZID=America/Chicago:20260927T133000
DTEND;TZID=America/Chicago:20260927T160000
DTSTAMP:20260424T123336
CREATED:20260423T205022Z
LAST-MODIFIED:20260423T205026Z
UID:10002953-1790515800-1790524800@calendar.stormontvail.org
SUMMARY:Welcome Baby
DESCRIPTION:This class is designed to provide up to date information about newborn care\, safe sleep\, car seat safety\, calming a fussy baby\, feedings\, and more.  Adjustments to parenthood as well as nurturing your relationship with your support person will also be covered in this class. Mothers are welcome to bring their support person\, family or a friend who provides support during their pregnancy and beyond.  Class will consist of a combination of presentation and hands on practice of techniques such as diapering and swaddling.  \n\n\n\nClass is held in the Pozez Education Center Auditorium at Stormont Vail Hospital.
URL:https://calendar.stormontvail.org/event/welcome-baby-11/
LOCATION:Stormont Vail Health Pozez Education Center\, 1500 SW 10th Ave\, Topeka\, KS\, 66604\, United States
CATEGORIES:Welcome Baby Class
ATTACH;FMTTYPE=image/jpeg:https://calendar.stormontvail.org/wp-content/uploads/sites/4/2021/04/mother-baby_tb.jpg
ORGANIZER;CN="Laura Odom%2C RN%2C IBCLC":MAILTO:laodom@stormontvail.org
END:VEVENT
BEGIN:VEVENT
DTSTART;TZID=America/Chicago:20261014T180000
DTEND;TZID=America/Chicago:20261014T201500
DTSTAMP:20260424T123336
CREATED:20260331T214159Z
LAST-MODIFIED:20260401T152526Z
UID:10002936-1792000800-1792008900@calendar.stormontvail.org
SUMMARY:Childbirth Preparation (October 14\, 21\, & 28)
DESCRIPTION:Our childbirth classes are taught by experienced educators and are designed to help you and your support person feel more prepared for your labor and delivery experience. Learn about the stages of labor\, pain management tools\, breathing and relaxation techniques\, how to involve your support person\, and more! Dress comfortably and feel free to bring a pillow to help you feel more comfortable during breathing and relaxation exercises. It is ideal for this class to be completed one month to six weeks prior to your due date. \n\n\n\nThis class will be held in the Stormont Vail Health Pozez Education Center. Please enter through the main entrance of Stormont Vail Health. \n\n\n\nNote: Enrollment includes expectant mother and one support person.  This class is a series event and will meet October 14th\, 21st\, & 28th from 6 to 8:15 pm each night.
URL:https://calendar.stormontvail.org/event/childbirth-preparation-october-14-21-28/
LOCATION:Stormont Vail Health Pozez Education Center\, 1500 SW 10th Ave\, Topeka\, KS\, 66604\, United States
ORGANIZER;CN="Laura Odom%2C RN%2C IBCLC":MAILTO:laodom@stormontvail.org
END:VEVENT
BEGIN:VEVENT
DTSTART;TZID=America/Chicago:20261025T133000
DTEND;TZID=America/Chicago:20261025T160000
DTSTAMP:20260424T123336
CREATED:20260423T205229Z
LAST-MODIFIED:20260423T205233Z
UID:10002954-1792935000-1792944000@calendar.stormontvail.org
SUMMARY:Welcome Baby
DESCRIPTION:This class is designed to provide up to date information about newborn care\, safe sleep\, car seat safety\, calming a fussy baby\, feedings\, and more.  Adjustments to parenthood as well as nurturing your relationship with your support person will also be covered in this class. Mothers are welcome to bring their support person\, family or a friend who provides support during their pregnancy and beyond.  Class will consist of a combination of presentation and hands on practice of techniques such as diapering and swaddling.  \n\n\n\nClass is held in the Pozez Education Center Auditorium at Stormont Vail Hospital.
URL:https://calendar.stormontvail.org/event/welcome-baby-12/
LOCATION:Stormont Vail Health Pozez Education Center\, 1500 SW 10th Ave\, Topeka\, KS\, 66604\, United States
CATEGORIES:Welcome Baby Class
ATTACH;FMTTYPE=image/jpeg:https://calendar.stormontvail.org/wp-content/uploads/sites/4/2021/04/mother-baby_tb.jpg
ORGANIZER;CN="Laura Odom%2C RN%2C IBCLC":MAILTO:laodom@stormontvail.org
END:VEVENT
BEGIN:VEVENT
DTSTART;TZID=America/Chicago:20261104T180000
DTEND;TZID=America/Chicago:20261104T193000
DTSTAMP:20260424T123336
CREATED:20260331T214418Z
LAST-MODIFIED:20260401T152447Z
UID:10002937-1793815200-1793820600@calendar.stormontvail.org
SUMMARY:Online Childbirth Preparation (November 4\, 11\, & 18)
DESCRIPTION:Our childbirth classes are taught by experienced educators and are designed to help you and your support person feel more prepared for your labor and delivery experience. Learn about the stages of labor\, pain management tools\, breathing and relaxation techniques\, how to involve your support person\, and more! \n\n\n\nOnline childbirth class will be an online meeting with experienced instructors to review information and answer questions. The class will consist of three sessions (November 4th\, 11th\, & 18th) to cover all content. Instructors will communicate via email with a Webex link to join the virtual meeting within one week of the first class.  \n\n\n\nNote: Enrollment includes one expectant mother and one support person.  \n\n\n\nResources users can download and keep for later use \n\n\n\nBreathing Techniques \n\n\n\nExample of a Simplified Birth Plan \n\n\n\nHospital Bag Checklist \n\n\n\nImagery & Relaxation Example \n\n\n\nTouch Relaxation
URL:https://calendar.stormontvail.org/event/online-childbirth-preparation-november-4-11-18/
ORGANIZER;CN="Laura Odom%2C RN%2C IBCLC":MAILTO:laodom@stormontvail.org
END:VEVENT
BEGIN:VEVENT
DTSTART;TZID=America/Chicago:20261129T133000
DTEND;TZID=America/Chicago:20261129T160000
DTSTAMP:20260424T123336
CREATED:20260423T205521Z
LAST-MODIFIED:20260423T205525Z
UID:10002955-1795959000-1795968000@calendar.stormontvail.org
SUMMARY:Welcome Baby
DESCRIPTION:This class is designed to provide up to date information about newborn care\, safe sleep\, car seat safety\, calming a fussy baby\, feedings\, and more.  Adjustments to parenthood as well as nurturing your relationship with your support person will also be covered in this class. Mothers are welcome to bring their support person\, family or a friend who provides support during their pregnancy and beyond.  Class will consist of a combination of presentation and hands on practice of techniques such as diapering and swaddling.  \n\n\n\nClass is held in the Pozez Education Center Auditorium at Stormont Vail Hospital.
URL:https://calendar.stormontvail.org/event/welcome-baby-13/
LOCATION:Stormont Vail Health Pozez Education Center\, 1500 SW 10th Ave\, Topeka\, KS\, 66604\, United States
CATEGORIES:Welcome Baby Class
ATTACH;FMTTYPE=image/jpeg:https://calendar.stormontvail.org/wp-content/uploads/sites/4/2021/04/mother-baby_tb.jpg
ORGANIZER;CN="Laura Odom%2C RN%2C IBCLC":MAILTO:laodom@stormontvail.org
END:VEVENT
BEGIN:VEVENT
DTSTART;TZID=America/Chicago:20261202T180000
DTEND;TZID=America/Chicago:20261202T201500
DTSTAMP:20260424T123336
CREATED:20260331T214525Z
LAST-MODIFIED:20260401T152328Z
UID:10002938-1796234400-1796242500@calendar.stormontvail.org
SUMMARY:Childbirth Preparation (December 2\, 9\, & 16)
DESCRIPTION:Our childbirth classes are taught by experienced educators and are designed to help you and your support person feel more prepared for your labor and delivery experience. Learn about the stages of labor\, pain management tools\, breathing and relaxation techniques\, how to involve your support person\, and more! Dress comfortably and feel free to bring a pillow to help you feel more comfortable during breathing and relaxation exercises. It is ideal for this class to be completed one month to six weeks prior to your due date. \n\n\n\nThis class will be held in the Stormont Vail Health Pozez Education Center. Please enter through the main entrance of Stormont Vail Health. \n\n\n\nNote: Enrollment includes expectant mother and one support person.  This class is a series event and will meet December 2nd\, 9th\, & 16th from 6 to 8:15 pm each night.
URL:https://calendar.stormontvail.org/event/childbirth-preparation-december-2-9-16/
LOCATION:Stormont Vail Health Pozez Education Center\, 1500 SW 10th Ave\, Topeka\, KS\, 66604\, United States
ORGANIZER;CN="Laura Odom%2C RN%2C IBCLC":MAILTO:laodom@stormontvail.org
END:VEVENT
END:VCALENDAR