BEGIN:VCALENDAR
VERSION:2.0
PRODID:-//Calendar &amp; Events - ECPv6.15.13//NONSGML v1.0//EN
CALSCALE:GREGORIAN
METHOD:PUBLISH
X-WR-CALNAME:Calendar &amp; Events
X-ORIGINAL-URL:https://calendar.stormontvail.org
X-WR-CALDESC:Events for Calendar &amp; Events
REFRESH-INTERVAL;VALUE=DURATION:PT1H
X-Robots-Tag:noindex
X-PUBLISHED-TTL:PT1H
BEGIN:VTIMEZONE
TZID:America/Chicago
BEGIN:DAYLIGHT
TZOFFSETFROM:-0600
TZOFFSETTO:-0500
TZNAME:CDT
DTSTART:20210314T080000
END:DAYLIGHT
BEGIN:STANDARD
TZOFFSETFROM:-0500
TZOFFSETTO:-0600
TZNAME:CST
DTSTART:20211107T070000
END:STANDARD
BEGIN:DAYLIGHT
TZOFFSETFROM:-0600
TZOFFSETTO:-0500
TZNAME:CDT
DTSTART:20220313T080000
END:DAYLIGHT
BEGIN:STANDARD
TZOFFSETFROM:-0500
TZOFFSETTO:-0600
TZNAME:CST
DTSTART:20221106T070000
END:STANDARD
BEGIN:DAYLIGHT
TZOFFSETFROM:-0600
TZOFFSETTO:-0500
TZNAME:CDT
DTSTART:20230312T080000
END:DAYLIGHT
BEGIN:STANDARD
TZOFFSETFROM:-0500
TZOFFSETTO:-0600
TZNAME:CST
DTSTART:20231105T070000
END:STANDARD
END:VTIMEZONE
BEGIN:VEVENT
DTSTART;TZID=America/Chicago:20220507T080000
DTEND;TZID=America/Chicago:20220507T140000
DTSTAMP:20260423T162632
CREATED:20220427T133959Z
LAST-MODIFIED:20220427T141244Z
UID:10000598-1651910400-1651932000@calendar.stormontvail.org
SUMMARY:Sports Physical Clinic
DESCRIPTION:As summer training is around the corner for next year’s sports season\, call the team you trust for a physical. \n\n\n\nGet your child’s 2022/2023 sports physical done early by taking advantage of our sports physical clinic. If your student athlete gets their physical done now with our specially trained Sports Medicine doctors at Cotton O’Neil\, they’ll be able to focus on training to gear up for the next sports season. \n\n\n\nThe clinic is open to student athletes from all area high schools and junior highs who are playing sports next year. \n\n\n\n \n\n\n\nPlease enter the West doors and proceed to the 2nd floor \n\n\n\n\n\n\n\nFor more information\, call Cotton O’Neil Orthopedics & Sports Medicine at (785) 270-8880 or visit stormontvail.org. \n\n\n\n*Schools contracted with Cotton O’Neil athletic services will receive a donation to their athletic program with student participation
URL:https://calendar.stormontvail.org/event/sports-physical-clinic-05072022/
LOCATION:Cotton O’Neil Kanza Park\, 2660 S.W. 3rd St.\, Topeka\, KS\, 66606\, United States
CATEGORIES:Community Events & Classes
ATTACH;FMTTYPE=image/jpeg:https://calendar.stormontvail.org/wp-content/uploads/sites/4/2022/04/2022_OrthoSports_PhysicalClinic_SVNet_Calendar_920x368.jpg
END:VEVENT
END:VCALENDAR